BEGIN:VCALENDAR
VERSION:2.0
PRODID:-//Paramount Club - ECPv6.13.2.1//NONSGML v1.0//EN
CALSCALE:GREGORIAN
METHOD:PUBLISH
X-WR-CALNAME:Paramount Club
X-ORIGINAL-URL:https://paramountclub.pgre.com
X-WR-CALDESC:Events for Paramount Club
REFRESH-INTERVAL;VALUE=DURATION:PT1H
X-Robots-Tag:noindex
X-PUBLISHED-TTL:PT1H
BEGIN:VTIMEZONE
TZID:America/New_York
BEGIN:DAYLIGHT
TZOFFSETFROM:-0500
TZOFFSETTO:-0400
TZNAME:EDT
DTSTART:20300310T070000
END:DAYLIGHT
BEGIN:STANDARD
TZOFFSETFROM:-0400
TZOFFSETTO:-0500
TZNAME:EST
DTSTART:20301103T060000
END:STANDARD
BEGIN:DAYLIGHT
TZOFFSETFROM:-0500
TZOFFSETTO:-0400
TZNAME:EDT
DTSTART:20310309T070000
END:DAYLIGHT
BEGIN:STANDARD
TZOFFSETFROM:-0400
TZOFFSETTO:-0500
TZNAME:EST
DTSTART:20311102T060000
END:STANDARD
END:VTIMEZONE
BEGIN:VEVENT
DTSTART;TZID=America/New_York:20300916T180000
DTEND;TZID=America/New_York:20300916T190000
DTSTAMP:20260424T235215
CREATED:20260220T174858Z
LAST-MODIFIED:20260220T175013Z
UID:10005024-1915812000-1915815600@paramountclub.pgre.com
SUMMARY:Self-Defense Class
DESCRIPTION:Protect & defend yourself and learn how to safely escape dangerous situations. \nSign up for our self-defense class every Monday at 6:00pm\, at Paramount Wellness!
URL:https://paramountclub.pgre.com/events-calendar/self-defense-class-2-2-2/2030-09-16/
LOCATION:Paramount Wellness\, 1301 Avenue of the Americas\, New York\, NY\, 10019\, United States
CATEGORIES:Wellness
ATTACH;FMTTYPE=image/jpeg:https://paramountclub.pgre.com/wp-content/uploads/2025/01/BoxKB-Pic.jpg
ORGANIZER;CN="Paramount Wellness":MAILTO:wellness@paramount.club
END:VEVENT
BEGIN:VEVENT
DTSTART;TZID=America/New_York:20300923T180000
DTEND;TZID=America/New_York:20300923T190000
DTSTAMP:20260424T235215
CREATED:20260220T174858Z
LAST-MODIFIED:20260220T175013Z
UID:10005025-1916416800-1916420400@paramountclub.pgre.com
SUMMARY:Self-Defense Class
DESCRIPTION:Protect & defend yourself and learn how to safely escape dangerous situations. \nSign up for our self-defense class every Monday at 6:00pm\, at Paramount Wellness!
URL:https://paramountclub.pgre.com/events-calendar/self-defense-class-2-2-2/2030-09-23/
LOCATION:Paramount Wellness\, 1301 Avenue of the Americas\, New York\, NY\, 10019\, United States
CATEGORIES:Wellness
ATTACH;FMTTYPE=image/jpeg:https://paramountclub.pgre.com/wp-content/uploads/2025/01/BoxKB-Pic.jpg
ORGANIZER;CN="Paramount Wellness":MAILTO:wellness@paramount.club
END:VEVENT
BEGIN:VEVENT
DTSTART;TZID=America/New_York:20300930T180000
DTEND;TZID=America/New_York:20300930T190000
DTSTAMP:20260424T235215
CREATED:20260220T174858Z
LAST-MODIFIED:20260220T175013Z
UID:10005026-1917021600-1917025200@paramountclub.pgre.com
SUMMARY:Self-Defense Class
DESCRIPTION:Protect & defend yourself and learn how to safely escape dangerous situations. \nSign up for our self-defense class every Monday at 6:00pm\, at Paramount Wellness!
URL:https://paramountclub.pgre.com/events-calendar/self-defense-class-2-2-2/2030-09-30/
LOCATION:Paramount Wellness\, 1301 Avenue of the Americas\, New York\, NY\, 10019\, United States
CATEGORIES:Wellness
ATTACH;FMTTYPE=image/jpeg:https://paramountclub.pgre.com/wp-content/uploads/2025/01/BoxKB-Pic.jpg
ORGANIZER;CN="Paramount Wellness":MAILTO:wellness@paramount.club
END:VEVENT
BEGIN:VEVENT
DTSTART;TZID=America/New_York:20301007T180000
DTEND;TZID=America/New_York:20301007T190000
DTSTAMP:20260424T235215
CREATED:20260220T174858Z
LAST-MODIFIED:20260220T175013Z
UID:10005027-1917626400-1917630000@paramountclub.pgre.com
SUMMARY:Self-Defense Class
DESCRIPTION:Protect & defend yourself and learn how to safely escape dangerous situations. \nSign up for our self-defense class every Monday at 6:00pm\, at Paramount Wellness!
URL:https://paramountclub.pgre.com/events-calendar/self-defense-class-2-2-2/2030-10-07/
LOCATION:Paramount Wellness\, 1301 Avenue of the Americas\, New York\, NY\, 10019\, United States
CATEGORIES:Wellness
ATTACH;FMTTYPE=image/jpeg:https://paramountclub.pgre.com/wp-content/uploads/2025/01/BoxKB-Pic.jpg
ORGANIZER;CN="Paramount Wellness":MAILTO:wellness@paramount.club
END:VEVENT
BEGIN:VEVENT
DTSTART;TZID=America/New_York:20301014T180000
DTEND;TZID=America/New_York:20301014T190000
DTSTAMP:20260424T235215
CREATED:20260220T174858Z
LAST-MODIFIED:20260220T175013Z
UID:10005028-1918231200-1918234800@paramountclub.pgre.com
SUMMARY:Self-Defense Class
DESCRIPTION:Protect & defend yourself and learn how to safely escape dangerous situations. \nSign up for our self-defense class every Monday at 6:00pm\, at Paramount Wellness!
URL:https://paramountclub.pgre.com/events-calendar/self-defense-class-2-2-2/2030-10-14/
LOCATION:Paramount Wellness\, 1301 Avenue of the Americas\, New York\, NY\, 10019\, United States
CATEGORIES:Wellness
ATTACH;FMTTYPE=image/jpeg:https://paramountclub.pgre.com/wp-content/uploads/2025/01/BoxKB-Pic.jpg
ORGANIZER;CN="Paramount Wellness":MAILTO:wellness@paramount.club
END:VEVENT
BEGIN:VEVENT
DTSTART;TZID=America/New_York:20301021T180000
DTEND;TZID=America/New_York:20301021T190000
DTSTAMP:20260424T235216
CREATED:20260220T174858Z
LAST-MODIFIED:20260220T175013Z
UID:10005029-1918836000-1918839600@paramountclub.pgre.com
SUMMARY:Self-Defense Class
DESCRIPTION:Protect & defend yourself and learn how to safely escape dangerous situations. \nSign up for our self-defense class every Monday at 6:00pm\, at Paramount Wellness!
URL:https://paramountclub.pgre.com/events-calendar/self-defense-class-2-2-2/2030-10-21/
LOCATION:Paramount Wellness\, 1301 Avenue of the Americas\, New York\, NY\, 10019\, United States
CATEGORIES:Wellness
ATTACH;FMTTYPE=image/jpeg:https://paramountclub.pgre.com/wp-content/uploads/2025/01/BoxKB-Pic.jpg
ORGANIZER;CN="Paramount Wellness":MAILTO:wellness@paramount.club
END:VEVENT
BEGIN:VEVENT
DTSTART;TZID=America/New_York:20301028T180000
DTEND;TZID=America/New_York:20301028T190000
DTSTAMP:20260424T235216
CREATED:20260220T174858Z
LAST-MODIFIED:20260220T175013Z
UID:10005030-1919440800-1919444400@paramountclub.pgre.com
SUMMARY:Self-Defense Class
DESCRIPTION:Protect & defend yourself and learn how to safely escape dangerous situations. \nSign up for our self-defense class every Monday at 6:00pm\, at Paramount Wellness!
URL:https://paramountclub.pgre.com/events-calendar/self-defense-class-2-2-2/2030-10-28/
LOCATION:Paramount Wellness\, 1301 Avenue of the Americas\, New York\, NY\, 10019\, United States
CATEGORIES:Wellness
ATTACH;FMTTYPE=image/jpeg:https://paramountclub.pgre.com/wp-content/uploads/2025/01/BoxKB-Pic.jpg
ORGANIZER;CN="Paramount Wellness":MAILTO:wellness@paramount.club
END:VEVENT
BEGIN:VEVENT
DTSTART;TZID=America/New_York:20301104T180000
DTEND;TZID=America/New_York:20301104T190000
DTSTAMP:20260424T235216
CREATED:20260220T174858Z
LAST-MODIFIED:20260220T175013Z
UID:10005031-1920045600-1920049200@paramountclub.pgre.com
SUMMARY:Self-Defense Class
DESCRIPTION:Protect & defend yourself and learn how to safely escape dangerous situations. \nSign up for our self-defense class every Monday at 6:00pm\, at Paramount Wellness!
URL:https://paramountclub.pgre.com/events-calendar/self-defense-class-2-2-2/2030-11-04/
LOCATION:Paramount Wellness\, 1301 Avenue of the Americas\, New York\, NY\, 10019\, United States
CATEGORIES:Wellness
ATTACH;FMTTYPE=image/jpeg:https://paramountclub.pgre.com/wp-content/uploads/2025/01/BoxKB-Pic.jpg
ORGANIZER;CN="Paramount Wellness":MAILTO:wellness@paramount.club
END:VEVENT
BEGIN:VEVENT
DTSTART;TZID=America/New_York:20301111T180000
DTEND;TZID=America/New_York:20301111T190000
DTSTAMP:20260424T235216
CREATED:20260220T174858Z
LAST-MODIFIED:20260220T175013Z
UID:10005032-1920650400-1920654000@paramountclub.pgre.com
SUMMARY:Self-Defense Class
DESCRIPTION:Protect & defend yourself and learn how to safely escape dangerous situations. \nSign up for our self-defense class every Monday at 6:00pm\, at Paramount Wellness!
URL:https://paramountclub.pgre.com/events-calendar/self-defense-class-2-2-2/2030-11-11/
LOCATION:Paramount Wellness\, 1301 Avenue of the Americas\, New York\, NY\, 10019\, United States
CATEGORIES:Wellness
ATTACH;FMTTYPE=image/jpeg:https://paramountclub.pgre.com/wp-content/uploads/2025/01/BoxKB-Pic.jpg
ORGANIZER;CN="Paramount Wellness":MAILTO:wellness@paramount.club
END:VEVENT
BEGIN:VEVENT
DTSTART;TZID=America/New_York:20301118T180000
DTEND;TZID=America/New_York:20301118T190000
DTSTAMP:20260424T235216
CREATED:20260220T174858Z
LAST-MODIFIED:20260220T175013Z
UID:10005033-1921255200-1921258800@paramountclub.pgre.com
SUMMARY:Self-Defense Class
DESCRIPTION:Protect & defend yourself and learn how to safely escape dangerous situations. \nSign up for our self-defense class every Monday at 6:00pm\, at Paramount Wellness!
URL:https://paramountclub.pgre.com/events-calendar/self-defense-class-2-2-2/2030-11-18/
LOCATION:Paramount Wellness\, 1301 Avenue of the Americas\, New York\, NY\, 10019\, United States
CATEGORIES:Wellness
ATTACH;FMTTYPE=image/jpeg:https://paramountclub.pgre.com/wp-content/uploads/2025/01/BoxKB-Pic.jpg
ORGANIZER;CN="Paramount Wellness":MAILTO:wellness@paramount.club
END:VEVENT
BEGIN:VEVENT
DTSTART;TZID=America/New_York:20301125T180000
DTEND;TZID=America/New_York:20301125T190000
DTSTAMP:20260424T235216
CREATED:20260220T174858Z
LAST-MODIFIED:20260220T175013Z
UID:10005034-1921860000-1921863600@paramountclub.pgre.com
SUMMARY:Self-Defense Class
DESCRIPTION:Protect & defend yourself and learn how to safely escape dangerous situations. \nSign up for our self-defense class every Monday at 6:00pm\, at Paramount Wellness!
URL:https://paramountclub.pgre.com/events-calendar/self-defense-class-2-2-2/2030-11-25/
LOCATION:Paramount Wellness\, 1301 Avenue of the Americas\, New York\, NY\, 10019\, United States
CATEGORIES:Wellness
ATTACH;FMTTYPE=image/jpeg:https://paramountclub.pgre.com/wp-content/uploads/2025/01/BoxKB-Pic.jpg
ORGANIZER;CN="Paramount Wellness":MAILTO:wellness@paramount.club
END:VEVENT
BEGIN:VEVENT
DTSTART;TZID=America/New_York:20301202T180000
DTEND;TZID=America/New_York:20301202T190000
DTSTAMP:20260424T235216
CREATED:20260220T174858Z
LAST-MODIFIED:20260220T175013Z
UID:10005035-1922464800-1922468400@paramountclub.pgre.com
SUMMARY:Self-Defense Class
DESCRIPTION:Protect & defend yourself and learn how to safely escape dangerous situations. \nSign up for our self-defense class every Monday at 6:00pm\, at Paramount Wellness!
URL:https://paramountclub.pgre.com/events-calendar/self-defense-class-2-2-2/2030-12-02/
LOCATION:Paramount Wellness\, 1301 Avenue of the Americas\, New York\, NY\, 10019\, United States
CATEGORIES:Wellness
ATTACH;FMTTYPE=image/jpeg:https://paramountclub.pgre.com/wp-content/uploads/2025/01/BoxKB-Pic.jpg
ORGANIZER;CN="Paramount Wellness":MAILTO:wellness@paramount.club
END:VEVENT
BEGIN:VEVENT
DTSTART;TZID=America/New_York:20301209T180000
DTEND;TZID=America/New_York:20301209T190000
DTSTAMP:20260424T235216
CREATED:20260220T174858Z
LAST-MODIFIED:20260220T175013Z
UID:10005036-1923069600-1923073200@paramountclub.pgre.com
SUMMARY:Self-Defense Class
DESCRIPTION:Protect & defend yourself and learn how to safely escape dangerous situations. \nSign up for our self-defense class every Monday at 6:00pm\, at Paramount Wellness!
URL:https://paramountclub.pgre.com/events-calendar/self-defense-class-2-2-2/2030-12-09/
LOCATION:Paramount Wellness\, 1301 Avenue of the Americas\, New York\, NY\, 10019\, United States
CATEGORIES:Wellness
ATTACH;FMTTYPE=image/jpeg:https://paramountclub.pgre.com/wp-content/uploads/2025/01/BoxKB-Pic.jpg
ORGANIZER;CN="Paramount Wellness":MAILTO:wellness@paramount.club
END:VEVENT
BEGIN:VEVENT
DTSTART;TZID=America/New_York:20301216T180000
DTEND;TZID=America/New_York:20301216T190000
DTSTAMP:20260424T235216
CREATED:20260220T174858Z
LAST-MODIFIED:20260220T175013Z
UID:10005037-1923674400-1923678000@paramountclub.pgre.com
SUMMARY:Self-Defense Class
DESCRIPTION:Protect & defend yourself and learn how to safely escape dangerous situations. \nSign up for our self-defense class every Monday at 6:00pm\, at Paramount Wellness!
URL:https://paramountclub.pgre.com/events-calendar/self-defense-class-2-2-2/2030-12-16/
LOCATION:Paramount Wellness\, 1301 Avenue of the Americas\, New York\, NY\, 10019\, United States
CATEGORIES:Wellness
ATTACH;FMTTYPE=image/jpeg:https://paramountclub.pgre.com/wp-content/uploads/2025/01/BoxKB-Pic.jpg
ORGANIZER;CN="Paramount Wellness":MAILTO:wellness@paramount.club
END:VEVENT
BEGIN:VEVENT
DTSTART;TZID=America/New_York:20301223T180000
DTEND;TZID=America/New_York:20301223T190000
DTSTAMP:20260424T235216
CREATED:20260220T174858Z
LAST-MODIFIED:20260220T175013Z
UID:10005383-1924279200-1924282800@paramountclub.pgre.com
SUMMARY:Self-Defense Class
DESCRIPTION:Protect & defend yourself and learn how to safely escape dangerous situations. \nSign up for our self-defense class every Monday at 6:00pm\, at Paramount Wellness!
URL:https://paramountclub.pgre.com/events-calendar/self-defense-class-2-2-2/2030-12-23/
LOCATION:Paramount Wellness\, 1301 Avenue of the Americas\, New York\, NY\, 10019\, United States
CATEGORIES:Wellness
ATTACH;FMTTYPE=image/jpeg:https://paramountclub.pgre.com/wp-content/uploads/2025/01/BoxKB-Pic.jpg
ORGANIZER;CN="Paramount Wellness":MAILTO:wellness@paramount.club
END:VEVENT
BEGIN:VEVENT
DTSTART;TZID=America/New_York:20301230T180000
DTEND;TZID=America/New_York:20301230T190000
DTSTAMP:20260424T235216
CREATED:20260220T174858Z
LAST-MODIFIED:20260220T175013Z
UID:10005384-1924884000-1924887600@paramountclub.pgre.com
SUMMARY:Self-Defense Class
DESCRIPTION:Protect & defend yourself and learn how to safely escape dangerous situations. \nSign up for our self-defense class every Monday at 6:00pm\, at Paramount Wellness!
URL:https://paramountclub.pgre.com/events-calendar/self-defense-class-2-2-2/2030-12-30/
LOCATION:Paramount Wellness\, 1301 Avenue of the Americas\, New York\, NY\, 10019\, United States
CATEGORIES:Wellness
ATTACH;FMTTYPE=image/jpeg:https://paramountclub.pgre.com/wp-content/uploads/2025/01/BoxKB-Pic.jpg
ORGANIZER;CN="Paramount Wellness":MAILTO:wellness@paramount.club
END:VEVENT
BEGIN:VEVENT
DTSTART;TZID=America/New_York:20310106T180000
DTEND;TZID=America/New_York:20310106T190000
DTSTAMP:20260424T235216
CREATED:20260220T174858Z
LAST-MODIFIED:20260220T175013Z
UID:10005385-1925488800-1925492400@paramountclub.pgre.com
SUMMARY:Self-Defense Class
DESCRIPTION:Protect & defend yourself and learn how to safely escape dangerous situations. \nSign up for our self-defense class every Monday at 6:00pm\, at Paramount Wellness!
URL:https://paramountclub.pgre.com/events-calendar/self-defense-class-2-2-2/2031-01-06/
LOCATION:Paramount Wellness\, 1301 Avenue of the Americas\, New York\, NY\, 10019\, United States
CATEGORIES:Wellness
ATTACH;FMTTYPE=image/jpeg:https://paramountclub.pgre.com/wp-content/uploads/2025/01/BoxKB-Pic.jpg
ORGANIZER;CN="Paramount Wellness":MAILTO:wellness@paramount.club
END:VEVENT
BEGIN:VEVENT
DTSTART;TZID=America/New_York:20310113T180000
DTEND;TZID=America/New_York:20310113T190000
DTSTAMP:20260424T235216
CREATED:20260220T174858Z
LAST-MODIFIED:20260220T175013Z
UID:10005386-1926093600-1926097200@paramountclub.pgre.com
SUMMARY:Self-Defense Class
DESCRIPTION:Protect & defend yourself and learn how to safely escape dangerous situations. \nSign up for our self-defense class every Monday at 6:00pm\, at Paramount Wellness!
URL:https://paramountclub.pgre.com/events-calendar/self-defense-class-2-2-2/2031-01-13/
LOCATION:Paramount Wellness\, 1301 Avenue of the Americas\, New York\, NY\, 10019\, United States
CATEGORIES:Wellness
ATTACH;FMTTYPE=image/jpeg:https://paramountclub.pgre.com/wp-content/uploads/2025/01/BoxKB-Pic.jpg
ORGANIZER;CN="Paramount Wellness":MAILTO:wellness@paramount.club
END:VEVENT
BEGIN:VEVENT
DTSTART;TZID=America/New_York:20310120T180000
DTEND;TZID=America/New_York:20310120T190000
DTSTAMP:20260424T235216
CREATED:20260220T174858Z
LAST-MODIFIED:20260220T175013Z
UID:10005387-1926698400-1926702000@paramountclub.pgre.com
SUMMARY:Self-Defense Class
DESCRIPTION:Protect & defend yourself and learn how to safely escape dangerous situations. \nSign up for our self-defense class every Monday at 6:00pm\, at Paramount Wellness!
URL:https://paramountclub.pgre.com/events-calendar/self-defense-class-2-2-2/2031-01-20/
LOCATION:Paramount Wellness\, 1301 Avenue of the Americas\, New York\, NY\, 10019\, United States
CATEGORIES:Wellness
ATTACH;FMTTYPE=image/jpeg:https://paramountclub.pgre.com/wp-content/uploads/2025/01/BoxKB-Pic.jpg
ORGANIZER;CN="Paramount Wellness":MAILTO:wellness@paramount.club
END:VEVENT
BEGIN:VEVENT
DTSTART;TZID=America/New_York:20310127T180000
DTEND;TZID=America/New_York:20310127T190000
DTSTAMP:20260424T235216
CREATED:20260220T174858Z
LAST-MODIFIED:20260220T175013Z
UID:10005388-1927303200-1927306800@paramountclub.pgre.com
SUMMARY:Self-Defense Class
DESCRIPTION:Protect & defend yourself and learn how to safely escape dangerous situations. \nSign up for our self-defense class every Monday at 6:00pm\, at Paramount Wellness!
URL:https://paramountclub.pgre.com/events-calendar/self-defense-class-2-2-2/2031-01-27/
LOCATION:Paramount Wellness\, 1301 Avenue of the Americas\, New York\, NY\, 10019\, United States
CATEGORIES:Wellness
ATTACH;FMTTYPE=image/jpeg:https://paramountclub.pgre.com/wp-content/uploads/2025/01/BoxKB-Pic.jpg
ORGANIZER;CN="Paramount Wellness":MAILTO:wellness@paramount.club
END:VEVENT
BEGIN:VEVENT
DTSTART;TZID=America/New_York:20310203T180000
DTEND;TZID=America/New_York:20310203T190000
DTSTAMP:20260424T235216
CREATED:20260220T174858Z
LAST-MODIFIED:20260220T175013Z
UID:10005389-1927908000-1927911600@paramountclub.pgre.com
SUMMARY:Self-Defense Class
DESCRIPTION:Protect & defend yourself and learn how to safely escape dangerous situations. \nSign up for our self-defense class every Monday at 6:00pm\, at Paramount Wellness!
URL:https://paramountclub.pgre.com/events-calendar/self-defense-class-2-2-2/2031-02-03/
LOCATION:Paramount Wellness\, 1301 Avenue of the Americas\, New York\, NY\, 10019\, United States
CATEGORIES:Wellness
ATTACH;FMTTYPE=image/jpeg:https://paramountclub.pgre.com/wp-content/uploads/2025/01/BoxKB-Pic.jpg
ORGANIZER;CN="Paramount Wellness":MAILTO:wellness@paramount.club
END:VEVENT
BEGIN:VEVENT
DTSTART;TZID=America/New_York:20310210T180000
DTEND;TZID=America/New_York:20310210T190000
DTSTAMP:20260424T235216
CREATED:20260220T174858Z
LAST-MODIFIED:20260220T175013Z
UID:10005390-1928512800-1928516400@paramountclub.pgre.com
SUMMARY:Self-Defense Class
DESCRIPTION:Protect & defend yourself and learn how to safely escape dangerous situations. \nSign up for our self-defense class every Monday at 6:00pm\, at Paramount Wellness!
URL:https://paramountclub.pgre.com/events-calendar/self-defense-class-2-2-2/2031-02-10/
LOCATION:Paramount Wellness\, 1301 Avenue of the Americas\, New York\, NY\, 10019\, United States
CATEGORIES:Wellness
ATTACH;FMTTYPE=image/jpeg:https://paramountclub.pgre.com/wp-content/uploads/2025/01/BoxKB-Pic.jpg
ORGANIZER;CN="Paramount Wellness":MAILTO:wellness@paramount.club
END:VEVENT
BEGIN:VEVENT
DTSTART;TZID=America/New_York:20310217T180000
DTEND;TZID=America/New_York:20310217T190000
DTSTAMP:20260424T235216
CREATED:20260220T174858Z
LAST-MODIFIED:20260220T175013Z
UID:10005391-1929117600-1929121200@paramountclub.pgre.com
SUMMARY:Self-Defense Class
DESCRIPTION:Protect & defend yourself and learn how to safely escape dangerous situations. \nSign up for our self-defense class every Monday at 6:00pm\, at Paramount Wellness!
URL:https://paramountclub.pgre.com/events-calendar/self-defense-class-2-2-2/2031-02-17/
LOCATION:Paramount Wellness\, 1301 Avenue of the Americas\, New York\, NY\, 10019\, United States
CATEGORIES:Wellness
ATTACH;FMTTYPE=image/jpeg:https://paramountclub.pgre.com/wp-content/uploads/2025/01/BoxKB-Pic.jpg
ORGANIZER;CN="Paramount Wellness":MAILTO:wellness@paramount.club
END:VEVENT
BEGIN:VEVENT
DTSTART;TZID=America/New_York:20310224T180000
DTEND;TZID=America/New_York:20310224T190000
DTSTAMP:20260424T235216
CREATED:20260220T174858Z
LAST-MODIFIED:20260220T175013Z
UID:10005700-1929722400-1929726000@paramountclub.pgre.com
SUMMARY:Self-Defense Class
DESCRIPTION:Protect & defend yourself and learn how to safely escape dangerous situations. \nSign up for our self-defense class every Monday at 6:00pm\, at Paramount Wellness!
URL:https://paramountclub.pgre.com/events-calendar/self-defense-class-2-2-2/2031-02-24/
LOCATION:Paramount Wellness\, 1301 Avenue of the Americas\, New York\, NY\, 10019\, United States
CATEGORIES:Wellness
ATTACH;FMTTYPE=image/jpeg:https://paramountclub.pgre.com/wp-content/uploads/2025/01/BoxKB-Pic.jpg
ORGANIZER;CN="Paramount Wellness":MAILTO:wellness@paramount.club
END:VEVENT
BEGIN:VEVENT
DTSTART;TZID=America/New_York:20310303T180000
DTEND;TZID=America/New_York:20310303T190000
DTSTAMP:20260424T235216
CREATED:20260220T174858Z
LAST-MODIFIED:20260220T175013Z
UID:10005701-1930327200-1930330800@paramountclub.pgre.com
SUMMARY:Self-Defense Class
DESCRIPTION:Protect & defend yourself and learn how to safely escape dangerous situations. \nSign up for our self-defense class every Monday at 6:00pm\, at Paramount Wellness!
URL:https://paramountclub.pgre.com/events-calendar/self-defense-class-2-2-2/2031-03-03/
LOCATION:Paramount Wellness\, 1301 Avenue of the Americas\, New York\, NY\, 10019\, United States
CATEGORIES:Wellness
ATTACH;FMTTYPE=image/jpeg:https://paramountclub.pgre.com/wp-content/uploads/2025/01/BoxKB-Pic.jpg
ORGANIZER;CN="Paramount Wellness":MAILTO:wellness@paramount.club
END:VEVENT
BEGIN:VEVENT
DTSTART;TZID=America/New_York:20310310T180000
DTEND;TZID=America/New_York:20310310T190000
DTSTAMP:20260424T235216
CREATED:20260220T174858Z
LAST-MODIFIED:20260220T175013Z
UID:10005702-1930932000-1930935600@paramountclub.pgre.com
SUMMARY:Self-Defense Class
DESCRIPTION:Protect & defend yourself and learn how to safely escape dangerous situations. \nSign up for our self-defense class every Monday at 6:00pm\, at Paramount Wellness!
URL:https://paramountclub.pgre.com/events-calendar/self-defense-class-2-2-2/2031-03-10/
LOCATION:Paramount Wellness\, 1301 Avenue of the Americas\, New York\, NY\, 10019\, United States
CATEGORIES:Wellness
ATTACH;FMTTYPE=image/jpeg:https://paramountclub.pgre.com/wp-content/uploads/2025/01/BoxKB-Pic.jpg
ORGANIZER;CN="Paramount Wellness":MAILTO:wellness@paramount.club
END:VEVENT
BEGIN:VEVENT
DTSTART;TZID=America/New_York:20310317T180000
DTEND;TZID=America/New_York:20310317T190000
DTSTAMP:20260424T235216
CREATED:20260220T174858Z
LAST-MODIFIED:20260220T175013Z
UID:10005703-1931536800-1931540400@paramountclub.pgre.com
SUMMARY:Self-Defense Class
DESCRIPTION:Protect & defend yourself and learn how to safely escape dangerous situations. \nSign up for our self-defense class every Monday at 6:00pm\, at Paramount Wellness!
URL:https://paramountclub.pgre.com/events-calendar/self-defense-class-2-2-2/2031-03-17/
LOCATION:Paramount Wellness\, 1301 Avenue of the Americas\, New York\, NY\, 10019\, United States
CATEGORIES:Wellness
ATTACH;FMTTYPE=image/jpeg:https://paramountclub.pgre.com/wp-content/uploads/2025/01/BoxKB-Pic.jpg
ORGANIZER;CN="Paramount Wellness":MAILTO:wellness@paramount.club
END:VEVENT
BEGIN:VEVENT
DTSTART;TZID=America/New_York:20310324T180000
DTEND;TZID=America/New_York:20310324T190000
DTSTAMP:20260424T235216
CREATED:20260220T174858Z
LAST-MODIFIED:20260220T175013Z
UID:10005704-1932141600-1932145200@paramountclub.pgre.com
SUMMARY:Self-Defense Class
DESCRIPTION:Protect & defend yourself and learn how to safely escape dangerous situations. \nSign up for our self-defense class every Monday at 6:00pm\, at Paramount Wellness!
URL:https://paramountclub.pgre.com/events-calendar/self-defense-class-2-2-2/2031-03-24/
LOCATION:Paramount Wellness\, 1301 Avenue of the Americas\, New York\, NY\, 10019\, United States
CATEGORIES:Wellness
ATTACH;FMTTYPE=image/jpeg:https://paramountclub.pgre.com/wp-content/uploads/2025/01/BoxKB-Pic.jpg
ORGANIZER;CN="Paramount Wellness":MAILTO:wellness@paramount.club
END:VEVENT
BEGIN:VEVENT
DTSTART;TZID=America/New_York:20310331T180000
DTEND;TZID=America/New_York:20310331T190000
DTSTAMP:20260424T235216
CREATED:20260220T174858Z
LAST-MODIFIED:20260220T175013Z
UID:10005705-1932746400-1932750000@paramountclub.pgre.com
SUMMARY:Self-Defense Class
DESCRIPTION:Protect & defend yourself and learn how to safely escape dangerous situations. \nSign up for our self-defense class every Monday at 6:00pm\, at Paramount Wellness!
URL:https://paramountclub.pgre.com/events-calendar/self-defense-class-2-2-2/2031-03-31/
LOCATION:Paramount Wellness\, 1301 Avenue of the Americas\, New York\, NY\, 10019\, United States
CATEGORIES:Wellness
ATTACH;FMTTYPE=image/jpeg:https://paramountclub.pgre.com/wp-content/uploads/2025/01/BoxKB-Pic.jpg
ORGANIZER;CN="Paramount Wellness":MAILTO:wellness@paramount.club
END:VEVENT
BEGIN:VEVENT
DTSTART;TZID=America/New_York:20310407T180000
DTEND;TZID=America/New_York:20310407T190000
DTSTAMP:20260424T235216
CREATED:20260220T174858Z
LAST-MODIFIED:20260220T175013Z
UID:10005706-1933351200-1933354800@paramountclub.pgre.com
SUMMARY:Self-Defense Class
DESCRIPTION:Protect & defend yourself and learn how to safely escape dangerous situations. \nSign up for our self-defense class every Monday at 6:00pm\, at Paramount Wellness!
URL:https://paramountclub.pgre.com/events-calendar/self-defense-class-2-2-2/2031-04-07/
LOCATION:Paramount Wellness\, 1301 Avenue of the Americas\, New York\, NY\, 10019\, United States
CATEGORIES:Wellness
ATTACH;FMTTYPE=image/jpeg:https://paramountclub.pgre.com/wp-content/uploads/2025/01/BoxKB-Pic.jpg
ORGANIZER;CN="Paramount Wellness":MAILTO:wellness@paramount.club
END:VEVENT
END:VCALENDAR