BEGIN:VCALENDAR
VERSION:2.0
PRODID:-//Paramount Club - ECPv6.13.2.1//NONSGML v1.0//EN
CALSCALE:GREGORIAN
METHOD:PUBLISH
X-WR-CALNAME:Paramount Club
X-ORIGINAL-URL:https://paramountclub.pgre.com
X-WR-CALDESC:Events for Paramount Club
REFRESH-INTERVAL;VALUE=DURATION:PT1H
X-Robots-Tag:noindex
X-PUBLISHED-TTL:PT1H
BEGIN:VTIMEZONE
TZID:America/New_York
BEGIN:DAYLIGHT
TZOFFSETFROM:-0500
TZOFFSETTO:-0400
TZNAME:EDT
DTSTART:20260308T070000
END:DAYLIGHT
BEGIN:STANDARD
TZOFFSETFROM:-0400
TZOFFSETTO:-0500
TZNAME:EST
DTSTART:20261101T060000
END:STANDARD
BEGIN:DAYLIGHT
TZOFFSETFROM:-0500
TZOFFSETTO:-0400
TZNAME:EDT
DTSTART:20270314T070000
END:DAYLIGHT
BEGIN:STANDARD
TZOFFSETFROM:-0400
TZOFFSETTO:-0500
TZNAME:EST
DTSTART:20271107T060000
END:STANDARD
END:VTIMEZONE
BEGIN:VEVENT
DTSTART;TZID=America/New_York:20261019T180000
DTEND;TZID=America/New_York:20261019T190000
DTSTAMP:20260423T185802
CREATED:20260220T174858Z
LAST-MODIFIED:20260220T175013Z
UID:10004820-1792432800-1792436400@paramountclub.pgre.com
SUMMARY:Self-Defense Class
DESCRIPTION:Protect & defend yourself and learn how to safely escape dangerous situations. \nSign up for our self-defense class every Monday at 6:00pm\, at Paramount Wellness!
URL:https://paramountclub.pgre.com/events-calendar/self-defense-class-2-2-2/2026-10-19/
LOCATION:Paramount Wellness\, 1301 Avenue of the Americas\, New York\, NY\, 10019\, United States
CATEGORIES:Wellness
ATTACH;FMTTYPE=image/jpeg:https://paramountclub.pgre.com/wp-content/uploads/2025/01/BoxKB-Pic.jpg
ORGANIZER;CN="Paramount Wellness":MAILTO:wellness@paramount.club
END:VEVENT
BEGIN:VEVENT
DTSTART;TZID=America/New_York:20261026T180000
DTEND;TZID=America/New_York:20261026T190000
DTSTAMP:20260423T185802
CREATED:20260220T174858Z
LAST-MODIFIED:20260220T175013Z
UID:10004821-1793037600-1793041200@paramountclub.pgre.com
SUMMARY:Self-Defense Class
DESCRIPTION:Protect & defend yourself and learn how to safely escape dangerous situations. \nSign up for our self-defense class every Monday at 6:00pm\, at Paramount Wellness!
URL:https://paramountclub.pgre.com/events-calendar/self-defense-class-2-2-2/2026-10-26/
LOCATION:Paramount Wellness\, 1301 Avenue of the Americas\, New York\, NY\, 10019\, United States
CATEGORIES:Wellness
ATTACH;FMTTYPE=image/jpeg:https://paramountclub.pgre.com/wp-content/uploads/2025/01/BoxKB-Pic.jpg
ORGANIZER;CN="Paramount Wellness":MAILTO:wellness@paramount.club
END:VEVENT
BEGIN:VEVENT
DTSTART;TZID=America/New_York:20261102T180000
DTEND;TZID=America/New_York:20261102T190000
DTSTAMP:20260423T185802
CREATED:20260220T174858Z
LAST-MODIFIED:20260220T175013Z
UID:10004822-1793642400-1793646000@paramountclub.pgre.com
SUMMARY:Self-Defense Class
DESCRIPTION:Protect & defend yourself and learn how to safely escape dangerous situations. \nSign up for our self-defense class every Monday at 6:00pm\, at Paramount Wellness!
URL:https://paramountclub.pgre.com/events-calendar/self-defense-class-2-2-2/2026-11-02/
LOCATION:Paramount Wellness\, 1301 Avenue of the Americas\, New York\, NY\, 10019\, United States
CATEGORIES:Wellness
ATTACH;FMTTYPE=image/jpeg:https://paramountclub.pgre.com/wp-content/uploads/2025/01/BoxKB-Pic.jpg
ORGANIZER;CN="Paramount Wellness":MAILTO:wellness@paramount.club
END:VEVENT
BEGIN:VEVENT
DTSTART;TZID=America/New_York:20261109T180000
DTEND;TZID=America/New_York:20261109T190000
DTSTAMP:20260423T185802
CREATED:20260220T174858Z
LAST-MODIFIED:20260220T175013Z
UID:10004823-1794247200-1794250800@paramountclub.pgre.com
SUMMARY:Self-Defense Class
DESCRIPTION:Protect & defend yourself and learn how to safely escape dangerous situations. \nSign up for our self-defense class every Monday at 6:00pm\, at Paramount Wellness!
URL:https://paramountclub.pgre.com/events-calendar/self-defense-class-2-2-2/2026-11-09/
LOCATION:Paramount Wellness\, 1301 Avenue of the Americas\, New York\, NY\, 10019\, United States
CATEGORIES:Wellness
ATTACH;FMTTYPE=image/jpeg:https://paramountclub.pgre.com/wp-content/uploads/2025/01/BoxKB-Pic.jpg
ORGANIZER;CN="Paramount Wellness":MAILTO:wellness@paramount.club
END:VEVENT
BEGIN:VEVENT
DTSTART;TZID=America/New_York:20261116T180000
DTEND;TZID=America/New_York:20261116T190000
DTSTAMP:20260423T185802
CREATED:20260220T174858Z
LAST-MODIFIED:20260220T175013Z
UID:10004824-1794852000-1794855600@paramountclub.pgre.com
SUMMARY:Self-Defense Class
DESCRIPTION:Protect & defend yourself and learn how to safely escape dangerous situations. \nSign up for our self-defense class every Monday at 6:00pm\, at Paramount Wellness!
URL:https://paramountclub.pgre.com/events-calendar/self-defense-class-2-2-2/2026-11-16/
LOCATION:Paramount Wellness\, 1301 Avenue of the Americas\, New York\, NY\, 10019\, United States
CATEGORIES:Wellness
ATTACH;FMTTYPE=image/jpeg:https://paramountclub.pgre.com/wp-content/uploads/2025/01/BoxKB-Pic.jpg
ORGANIZER;CN="Paramount Wellness":MAILTO:wellness@paramount.club
END:VEVENT
BEGIN:VEVENT
DTSTART;TZID=America/New_York:20261123T180000
DTEND;TZID=America/New_York:20261123T190000
DTSTAMP:20260423T185802
CREATED:20260220T174858Z
LAST-MODIFIED:20260220T175013Z
UID:10004825-1795456800-1795460400@paramountclub.pgre.com
SUMMARY:Self-Defense Class
DESCRIPTION:Protect & defend yourself and learn how to safely escape dangerous situations. \nSign up for our self-defense class every Monday at 6:00pm\, at Paramount Wellness!
URL:https://paramountclub.pgre.com/events-calendar/self-defense-class-2-2-2/2026-11-23/
LOCATION:Paramount Wellness\, 1301 Avenue of the Americas\, New York\, NY\, 10019\, United States
CATEGORIES:Wellness
ATTACH;FMTTYPE=image/jpeg:https://paramountclub.pgre.com/wp-content/uploads/2025/01/BoxKB-Pic.jpg
ORGANIZER;CN="Paramount Wellness":MAILTO:wellness@paramount.club
END:VEVENT
BEGIN:VEVENT
DTSTART;TZID=America/New_York:20261130T180000
DTEND;TZID=America/New_York:20261130T190000
DTSTAMP:20260423T185802
CREATED:20260220T174858Z
LAST-MODIFIED:20260220T175013Z
UID:10004826-1796061600-1796065200@paramountclub.pgre.com
SUMMARY:Self-Defense Class
DESCRIPTION:Protect & defend yourself and learn how to safely escape dangerous situations. \nSign up for our self-defense class every Monday at 6:00pm\, at Paramount Wellness!
URL:https://paramountclub.pgre.com/events-calendar/self-defense-class-2-2-2/2026-11-30/
LOCATION:Paramount Wellness\, 1301 Avenue of the Americas\, New York\, NY\, 10019\, United States
CATEGORIES:Wellness
ATTACH;FMTTYPE=image/jpeg:https://paramountclub.pgre.com/wp-content/uploads/2025/01/BoxKB-Pic.jpg
ORGANIZER;CN="Paramount Wellness":MAILTO:wellness@paramount.club
END:VEVENT
BEGIN:VEVENT
DTSTART;TZID=America/New_York:20261207T180000
DTEND;TZID=America/New_York:20261207T190000
DTSTAMP:20260423T185802
CREATED:20260220T174858Z
LAST-MODIFIED:20260220T175013Z
UID:10004827-1796666400-1796670000@paramountclub.pgre.com
SUMMARY:Self-Defense Class
DESCRIPTION:Protect & defend yourself and learn how to safely escape dangerous situations. \nSign up for our self-defense class every Monday at 6:00pm\, at Paramount Wellness!
URL:https://paramountclub.pgre.com/events-calendar/self-defense-class-2-2-2/2026-12-07/
LOCATION:Paramount Wellness\, 1301 Avenue of the Americas\, New York\, NY\, 10019\, United States
CATEGORIES:Wellness
ATTACH;FMTTYPE=image/jpeg:https://paramountclub.pgre.com/wp-content/uploads/2025/01/BoxKB-Pic.jpg
ORGANIZER;CN="Paramount Wellness":MAILTO:wellness@paramount.club
END:VEVENT
BEGIN:VEVENT
DTSTART;TZID=America/New_York:20261214T180000
DTEND;TZID=America/New_York:20261214T190000
DTSTAMP:20260423T185802
CREATED:20260220T174858Z
LAST-MODIFIED:20260220T175013Z
UID:10004828-1797271200-1797274800@paramountclub.pgre.com
SUMMARY:Self-Defense Class
DESCRIPTION:Protect & defend yourself and learn how to safely escape dangerous situations. \nSign up for our self-defense class every Monday at 6:00pm\, at Paramount Wellness!
URL:https://paramountclub.pgre.com/events-calendar/self-defense-class-2-2-2/2026-12-14/
LOCATION:Paramount Wellness\, 1301 Avenue of the Americas\, New York\, NY\, 10019\, United States
CATEGORIES:Wellness
ATTACH;FMTTYPE=image/jpeg:https://paramountclub.pgre.com/wp-content/uploads/2025/01/BoxKB-Pic.jpg
ORGANIZER;CN="Paramount Wellness":MAILTO:wellness@paramount.club
END:VEVENT
BEGIN:VEVENT
DTSTART;TZID=America/New_York:20261221T180000
DTEND;TZID=America/New_York:20261221T190000
DTSTAMP:20260423T185802
CREATED:20260220T174858Z
LAST-MODIFIED:20260220T175013Z
UID:10004829-1797876000-1797879600@paramountclub.pgre.com
SUMMARY:Self-Defense Class
DESCRIPTION:Protect & defend yourself and learn how to safely escape dangerous situations. \nSign up for our self-defense class every Monday at 6:00pm\, at Paramount Wellness!
URL:https://paramountclub.pgre.com/events-calendar/self-defense-class-2-2-2/2026-12-21/
LOCATION:Paramount Wellness\, 1301 Avenue of the Americas\, New York\, NY\, 10019\, United States
CATEGORIES:Wellness
ATTACH;FMTTYPE=image/jpeg:https://paramountclub.pgre.com/wp-content/uploads/2025/01/BoxKB-Pic.jpg
ORGANIZER;CN="Paramount Wellness":MAILTO:wellness@paramount.club
END:VEVENT
BEGIN:VEVENT
DTSTART;TZID=America/New_York:20261228T180000
DTEND;TZID=America/New_York:20261228T190000
DTSTAMP:20260423T185802
CREATED:20260220T174858Z
LAST-MODIFIED:20260220T175013Z
UID:10004830-1798480800-1798484400@paramountclub.pgre.com
SUMMARY:Self-Defense Class
DESCRIPTION:Protect & defend yourself and learn how to safely escape dangerous situations. \nSign up for our self-defense class every Monday at 6:00pm\, at Paramount Wellness!
URL:https://paramountclub.pgre.com/events-calendar/self-defense-class-2-2-2/2026-12-28/
LOCATION:Paramount Wellness\, 1301 Avenue of the Americas\, New York\, NY\, 10019\, United States
CATEGORIES:Wellness
ATTACH;FMTTYPE=image/jpeg:https://paramountclub.pgre.com/wp-content/uploads/2025/01/BoxKB-Pic.jpg
ORGANIZER;CN="Paramount Wellness":MAILTO:wellness@paramount.club
END:VEVENT
BEGIN:VEVENT
DTSTART;TZID=America/New_York:20270104T180000
DTEND;TZID=America/New_York:20270104T190000
DTSTAMP:20260423T185802
CREATED:20260220T174858Z
LAST-MODIFIED:20260220T175013Z
UID:10004831-1799085600-1799089200@paramountclub.pgre.com
SUMMARY:Self-Defense Class
DESCRIPTION:Protect & defend yourself and learn how to safely escape dangerous situations. \nSign up for our self-defense class every Monday at 6:00pm\, at Paramount Wellness!
URL:https://paramountclub.pgre.com/events-calendar/self-defense-class-2-2-2/2027-01-04/
LOCATION:Paramount Wellness\, 1301 Avenue of the Americas\, New York\, NY\, 10019\, United States
CATEGORIES:Wellness
ATTACH;FMTTYPE=image/jpeg:https://paramountclub.pgre.com/wp-content/uploads/2025/01/BoxKB-Pic.jpg
ORGANIZER;CN="Paramount Wellness":MAILTO:wellness@paramount.club
END:VEVENT
BEGIN:VEVENT
DTSTART;TZID=America/New_York:20270111T180000
DTEND;TZID=America/New_York:20270111T190000
DTSTAMP:20260423T185802
CREATED:20260220T174858Z
LAST-MODIFIED:20260220T175013Z
UID:10004832-1799690400-1799694000@paramountclub.pgre.com
SUMMARY:Self-Defense Class
DESCRIPTION:Protect & defend yourself and learn how to safely escape dangerous situations. \nSign up for our self-defense class every Monday at 6:00pm\, at Paramount Wellness!
URL:https://paramountclub.pgre.com/events-calendar/self-defense-class-2-2-2/2027-01-11/
LOCATION:Paramount Wellness\, 1301 Avenue of the Americas\, New York\, NY\, 10019\, United States
CATEGORIES:Wellness
ATTACH;FMTTYPE=image/jpeg:https://paramountclub.pgre.com/wp-content/uploads/2025/01/BoxKB-Pic.jpg
ORGANIZER;CN="Paramount Wellness":MAILTO:wellness@paramount.club
END:VEVENT
BEGIN:VEVENT
DTSTART;TZID=America/New_York:20270118T180000
DTEND;TZID=America/New_York:20270118T190000
DTSTAMP:20260423T185802
CREATED:20260220T174858Z
LAST-MODIFIED:20260220T175013Z
UID:10004833-1800295200-1800298800@paramountclub.pgre.com
SUMMARY:Self-Defense Class
DESCRIPTION:Protect & defend yourself and learn how to safely escape dangerous situations. \nSign up for our self-defense class every Monday at 6:00pm\, at Paramount Wellness!
URL:https://paramountclub.pgre.com/events-calendar/self-defense-class-2-2-2/2027-01-18/
LOCATION:Paramount Wellness\, 1301 Avenue of the Americas\, New York\, NY\, 10019\, United States
CATEGORIES:Wellness
ATTACH;FMTTYPE=image/jpeg:https://paramountclub.pgre.com/wp-content/uploads/2025/01/BoxKB-Pic.jpg
ORGANIZER;CN="Paramount Wellness":MAILTO:wellness@paramount.club
END:VEVENT
BEGIN:VEVENT
DTSTART;TZID=America/New_York:20270125T180000
DTEND;TZID=America/New_York:20270125T190000
DTSTAMP:20260423T185802
CREATED:20260220T174858Z
LAST-MODIFIED:20260220T175013Z
UID:10004834-1800900000-1800903600@paramountclub.pgre.com
SUMMARY:Self-Defense Class
DESCRIPTION:Protect & defend yourself and learn how to safely escape dangerous situations. \nSign up for our self-defense class every Monday at 6:00pm\, at Paramount Wellness!
URL:https://paramountclub.pgre.com/events-calendar/self-defense-class-2-2-2/2027-01-25/
LOCATION:Paramount Wellness\, 1301 Avenue of the Americas\, New York\, NY\, 10019\, United States
CATEGORIES:Wellness
ATTACH;FMTTYPE=image/jpeg:https://paramountclub.pgre.com/wp-content/uploads/2025/01/BoxKB-Pic.jpg
ORGANIZER;CN="Paramount Wellness":MAILTO:wellness@paramount.club
END:VEVENT
BEGIN:VEVENT
DTSTART;TZID=America/New_York:20270201T180000
DTEND;TZID=America/New_York:20270201T190000
DTSTAMP:20260423T185802
CREATED:20260220T174858Z
LAST-MODIFIED:20260220T175013Z
UID:10004835-1801504800-1801508400@paramountclub.pgre.com
SUMMARY:Self-Defense Class
DESCRIPTION:Protect & defend yourself and learn how to safely escape dangerous situations. \nSign up for our self-defense class every Monday at 6:00pm\, at Paramount Wellness!
URL:https://paramountclub.pgre.com/events-calendar/self-defense-class-2-2-2/2027-02-01/
LOCATION:Paramount Wellness\, 1301 Avenue of the Americas\, New York\, NY\, 10019\, United States
CATEGORIES:Wellness
ATTACH;FMTTYPE=image/jpeg:https://paramountclub.pgre.com/wp-content/uploads/2025/01/BoxKB-Pic.jpg
ORGANIZER;CN="Paramount Wellness":MAILTO:wellness@paramount.club
END:VEVENT
BEGIN:VEVENT
DTSTART;TZID=America/New_York:20270208T180000
DTEND;TZID=America/New_York:20270208T190000
DTSTAMP:20260423T185802
CREATED:20260220T174858Z
LAST-MODIFIED:20260220T175013Z
UID:10004836-1802109600-1802113200@paramountclub.pgre.com
SUMMARY:Self-Defense Class
DESCRIPTION:Protect & defend yourself and learn how to safely escape dangerous situations. \nSign up for our self-defense class every Monday at 6:00pm\, at Paramount Wellness!
URL:https://paramountclub.pgre.com/events-calendar/self-defense-class-2-2-2/2027-02-08/
LOCATION:Paramount Wellness\, 1301 Avenue of the Americas\, New York\, NY\, 10019\, United States
CATEGORIES:Wellness
ATTACH;FMTTYPE=image/jpeg:https://paramountclub.pgre.com/wp-content/uploads/2025/01/BoxKB-Pic.jpg
ORGANIZER;CN="Paramount Wellness":MAILTO:wellness@paramount.club
END:VEVENT
BEGIN:VEVENT
DTSTART;TZID=America/New_York:20270215T180000
DTEND;TZID=America/New_York:20270215T190000
DTSTAMP:20260423T185802
CREATED:20260220T174858Z
LAST-MODIFIED:20260220T175013Z
UID:10004837-1802714400-1802718000@paramountclub.pgre.com
SUMMARY:Self-Defense Class
DESCRIPTION:Protect & defend yourself and learn how to safely escape dangerous situations. \nSign up for our self-defense class every Monday at 6:00pm\, at Paramount Wellness!
URL:https://paramountclub.pgre.com/events-calendar/self-defense-class-2-2-2/2027-02-15/
LOCATION:Paramount Wellness\, 1301 Avenue of the Americas\, New York\, NY\, 10019\, United States
CATEGORIES:Wellness
ATTACH;FMTTYPE=image/jpeg:https://paramountclub.pgre.com/wp-content/uploads/2025/01/BoxKB-Pic.jpg
ORGANIZER;CN="Paramount Wellness":MAILTO:wellness@paramount.club
END:VEVENT
BEGIN:VEVENT
DTSTART;TZID=America/New_York:20270222T180000
DTEND;TZID=America/New_York:20270222T190000
DTSTAMP:20260423T185802
CREATED:20260220T174858Z
LAST-MODIFIED:20260220T175013Z
UID:10004838-1803319200-1803322800@paramountclub.pgre.com
SUMMARY:Self-Defense Class
DESCRIPTION:Protect & defend yourself and learn how to safely escape dangerous situations. \nSign up for our self-defense class every Monday at 6:00pm\, at Paramount Wellness!
URL:https://paramountclub.pgre.com/events-calendar/self-defense-class-2-2-2/2027-02-22/
LOCATION:Paramount Wellness\, 1301 Avenue of the Americas\, New York\, NY\, 10019\, United States
CATEGORIES:Wellness
ATTACH;FMTTYPE=image/jpeg:https://paramountclub.pgre.com/wp-content/uploads/2025/01/BoxKB-Pic.jpg
ORGANIZER;CN="Paramount Wellness":MAILTO:wellness@paramount.club
END:VEVENT
BEGIN:VEVENT
DTSTART;TZID=America/New_York:20270301T180000
DTEND;TZID=America/New_York:20270301T190000
DTSTAMP:20260423T185802
CREATED:20260220T174858Z
LAST-MODIFIED:20260220T175013Z
UID:10004839-1803924000-1803927600@paramountclub.pgre.com
SUMMARY:Self-Defense Class
DESCRIPTION:Protect & defend yourself and learn how to safely escape dangerous situations. \nSign up for our self-defense class every Monday at 6:00pm\, at Paramount Wellness!
URL:https://paramountclub.pgre.com/events-calendar/self-defense-class-2-2-2/2027-03-01/
LOCATION:Paramount Wellness\, 1301 Avenue of the Americas\, New York\, NY\, 10019\, United States
CATEGORIES:Wellness
ATTACH;FMTTYPE=image/jpeg:https://paramountclub.pgre.com/wp-content/uploads/2025/01/BoxKB-Pic.jpg
ORGANIZER;CN="Paramount Wellness":MAILTO:wellness@paramount.club
END:VEVENT
BEGIN:VEVENT
DTSTART;TZID=America/New_York:20270308T180000
DTEND;TZID=America/New_York:20270308T190000
DTSTAMP:20260423T185802
CREATED:20260220T174858Z
LAST-MODIFIED:20260220T175013Z
UID:10004840-1804528800-1804532400@paramountclub.pgre.com
SUMMARY:Self-Defense Class
DESCRIPTION:Protect & defend yourself and learn how to safely escape dangerous situations. \nSign up for our self-defense class every Monday at 6:00pm\, at Paramount Wellness!
URL:https://paramountclub.pgre.com/events-calendar/self-defense-class-2-2-2/2027-03-08/
LOCATION:Paramount Wellness\, 1301 Avenue of the Americas\, New York\, NY\, 10019\, United States
CATEGORIES:Wellness
ATTACH;FMTTYPE=image/jpeg:https://paramountclub.pgre.com/wp-content/uploads/2025/01/BoxKB-Pic.jpg
ORGANIZER;CN="Paramount Wellness":MAILTO:wellness@paramount.club
END:VEVENT
BEGIN:VEVENT
DTSTART;TZID=America/New_York:20270315T180000
DTEND;TZID=America/New_York:20270315T190000
DTSTAMP:20260423T185802
CREATED:20260220T174858Z
LAST-MODIFIED:20260220T175013Z
UID:10004841-1805133600-1805137200@paramountclub.pgre.com
SUMMARY:Self-Defense Class
DESCRIPTION:Protect & defend yourself and learn how to safely escape dangerous situations. \nSign up for our self-defense class every Monday at 6:00pm\, at Paramount Wellness!
URL:https://paramountclub.pgre.com/events-calendar/self-defense-class-2-2-2/2027-03-15/
LOCATION:Paramount Wellness\, 1301 Avenue of the Americas\, New York\, NY\, 10019\, United States
CATEGORIES:Wellness
ATTACH;FMTTYPE=image/jpeg:https://paramountclub.pgre.com/wp-content/uploads/2025/01/BoxKB-Pic.jpg
ORGANIZER;CN="Paramount Wellness":MAILTO:wellness@paramount.club
END:VEVENT
BEGIN:VEVENT
DTSTART;TZID=America/New_York:20270322T180000
DTEND;TZID=America/New_York:20270322T190000
DTSTAMP:20260423T185802
CREATED:20260220T174858Z
LAST-MODIFIED:20260220T175013Z
UID:10004842-1805738400-1805742000@paramountclub.pgre.com
SUMMARY:Self-Defense Class
DESCRIPTION:Protect & defend yourself and learn how to safely escape dangerous situations. \nSign up for our self-defense class every Monday at 6:00pm\, at Paramount Wellness!
URL:https://paramountclub.pgre.com/events-calendar/self-defense-class-2-2-2/2027-03-22/
LOCATION:Paramount Wellness\, 1301 Avenue of the Americas\, New York\, NY\, 10019\, United States
CATEGORIES:Wellness
ATTACH;FMTTYPE=image/jpeg:https://paramountclub.pgre.com/wp-content/uploads/2025/01/BoxKB-Pic.jpg
ORGANIZER;CN="Paramount Wellness":MAILTO:wellness@paramount.club
END:VEVENT
BEGIN:VEVENT
DTSTART;TZID=America/New_York:20270329T180000
DTEND;TZID=America/New_York:20270329T190000
DTSTAMP:20260423T185802
CREATED:20260220T174858Z
LAST-MODIFIED:20260220T175013Z
UID:10004843-1806343200-1806346800@paramountclub.pgre.com
SUMMARY:Self-Defense Class
DESCRIPTION:Protect & defend yourself and learn how to safely escape dangerous situations. \nSign up for our self-defense class every Monday at 6:00pm\, at Paramount Wellness!
URL:https://paramountclub.pgre.com/events-calendar/self-defense-class-2-2-2/2027-03-29/
LOCATION:Paramount Wellness\, 1301 Avenue of the Americas\, New York\, NY\, 10019\, United States
CATEGORIES:Wellness
ATTACH;FMTTYPE=image/jpeg:https://paramountclub.pgre.com/wp-content/uploads/2025/01/BoxKB-Pic.jpg
ORGANIZER;CN="Paramount Wellness":MAILTO:wellness@paramount.club
END:VEVENT
BEGIN:VEVENT
DTSTART;TZID=America/New_York:20270405T180000
DTEND;TZID=America/New_York:20270405T190000
DTSTAMP:20260423T185802
CREATED:20260220T174858Z
LAST-MODIFIED:20260220T175013Z
UID:10004844-1806948000-1806951600@paramountclub.pgre.com
SUMMARY:Self-Defense Class
DESCRIPTION:Protect & defend yourself and learn how to safely escape dangerous situations. \nSign up for our self-defense class every Monday at 6:00pm\, at Paramount Wellness!
URL:https://paramountclub.pgre.com/events-calendar/self-defense-class-2-2-2/2027-04-05/
LOCATION:Paramount Wellness\, 1301 Avenue of the Americas\, New York\, NY\, 10019\, United States
CATEGORIES:Wellness
ATTACH;FMTTYPE=image/jpeg:https://paramountclub.pgre.com/wp-content/uploads/2025/01/BoxKB-Pic.jpg
ORGANIZER;CN="Paramount Wellness":MAILTO:wellness@paramount.club
END:VEVENT
BEGIN:VEVENT
DTSTART;TZID=America/New_York:20270412T180000
DTEND;TZID=America/New_York:20270412T190000
DTSTAMP:20260423T185802
CREATED:20260220T174858Z
LAST-MODIFIED:20260220T175013Z
UID:10004845-1807552800-1807556400@paramountclub.pgre.com
SUMMARY:Self-Defense Class
DESCRIPTION:Protect & defend yourself and learn how to safely escape dangerous situations. \nSign up for our self-defense class every Monday at 6:00pm\, at Paramount Wellness!
URL:https://paramountclub.pgre.com/events-calendar/self-defense-class-2-2-2/2027-04-12/
LOCATION:Paramount Wellness\, 1301 Avenue of the Americas\, New York\, NY\, 10019\, United States
CATEGORIES:Wellness
ATTACH;FMTTYPE=image/jpeg:https://paramountclub.pgre.com/wp-content/uploads/2025/01/BoxKB-Pic.jpg
ORGANIZER;CN="Paramount Wellness":MAILTO:wellness@paramount.club
END:VEVENT
BEGIN:VEVENT
DTSTART;TZID=America/New_York:20270419T180000
DTEND;TZID=America/New_York:20270419T190000
DTSTAMP:20260423T185802
CREATED:20260220T174858Z
LAST-MODIFIED:20260220T175013Z
UID:10004846-1808157600-1808161200@paramountclub.pgre.com
SUMMARY:Self-Defense Class
DESCRIPTION:Protect & defend yourself and learn how to safely escape dangerous situations. \nSign up for our self-defense class every Monday at 6:00pm\, at Paramount Wellness!
URL:https://paramountclub.pgre.com/events-calendar/self-defense-class-2-2-2/2027-04-19/
LOCATION:Paramount Wellness\, 1301 Avenue of the Americas\, New York\, NY\, 10019\, United States
CATEGORIES:Wellness
ATTACH;FMTTYPE=image/jpeg:https://paramountclub.pgre.com/wp-content/uploads/2025/01/BoxKB-Pic.jpg
ORGANIZER;CN="Paramount Wellness":MAILTO:wellness@paramount.club
END:VEVENT
BEGIN:VEVENT
DTSTART;TZID=America/New_York:20270426T180000
DTEND;TZID=America/New_York:20270426T190000
DTSTAMP:20260423T185802
CREATED:20260220T174858Z
LAST-MODIFIED:20260220T175013Z
UID:10004847-1808762400-1808766000@paramountclub.pgre.com
SUMMARY:Self-Defense Class
DESCRIPTION:Protect & defend yourself and learn how to safely escape dangerous situations. \nSign up for our self-defense class every Monday at 6:00pm\, at Paramount Wellness!
URL:https://paramountclub.pgre.com/events-calendar/self-defense-class-2-2-2/2027-04-26/
LOCATION:Paramount Wellness\, 1301 Avenue of the Americas\, New York\, NY\, 10019\, United States
CATEGORIES:Wellness
ATTACH;FMTTYPE=image/jpeg:https://paramountclub.pgre.com/wp-content/uploads/2025/01/BoxKB-Pic.jpg
ORGANIZER;CN="Paramount Wellness":MAILTO:wellness@paramount.club
END:VEVENT
BEGIN:VEVENT
DTSTART;TZID=America/New_York:20270503T180000
DTEND;TZID=America/New_York:20270503T190000
DTSTAMP:20260423T185802
CREATED:20260220T174858Z
LAST-MODIFIED:20260220T175013Z
UID:10004848-1809367200-1809370800@paramountclub.pgre.com
SUMMARY:Self-Defense Class
DESCRIPTION:Protect & defend yourself and learn how to safely escape dangerous situations. \nSign up for our self-defense class every Monday at 6:00pm\, at Paramount Wellness!
URL:https://paramountclub.pgre.com/events-calendar/self-defense-class-2-2-2/2027-05-03/
LOCATION:Paramount Wellness\, 1301 Avenue of the Americas\, New York\, NY\, 10019\, United States
CATEGORIES:Wellness
ATTACH;FMTTYPE=image/jpeg:https://paramountclub.pgre.com/wp-content/uploads/2025/01/BoxKB-Pic.jpg
ORGANIZER;CN="Paramount Wellness":MAILTO:wellness@paramount.club
END:VEVENT
BEGIN:VEVENT
DTSTART;TZID=America/New_York:20270510T180000
DTEND;TZID=America/New_York:20270510T190000
DTSTAMP:20260423T185802
CREATED:20260220T174858Z
LAST-MODIFIED:20260220T175013Z
UID:10004849-1809972000-1809975600@paramountclub.pgre.com
SUMMARY:Self-Defense Class
DESCRIPTION:Protect & defend yourself and learn how to safely escape dangerous situations. \nSign up for our self-defense class every Monday at 6:00pm\, at Paramount Wellness!
URL:https://paramountclub.pgre.com/events-calendar/self-defense-class-2-2-2/2027-05-10/
LOCATION:Paramount Wellness\, 1301 Avenue of the Americas\, New York\, NY\, 10019\, United States
CATEGORIES:Wellness
ATTACH;FMTTYPE=image/jpeg:https://paramountclub.pgre.com/wp-content/uploads/2025/01/BoxKB-Pic.jpg
ORGANIZER;CN="Paramount Wellness":MAILTO:wellness@paramount.club
END:VEVENT
END:VCALENDAR