BEGIN:VCALENDAR
VERSION:2.0
PRODID:-//Paramount Club - ECPv6.13.2.1//NONSGML v1.0//EN
CALSCALE:GREGORIAN
METHOD:PUBLISH
X-WR-CALNAME:Paramount Club
X-ORIGINAL-URL:https://paramountclub.pgre.com
X-WR-CALDESC:Events for Paramount Club
REFRESH-INTERVAL;VALUE=DURATION:PT1H
X-Robots-Tag:noindex
X-PUBLISHED-TTL:PT1H
BEGIN:VTIMEZONE
TZID:America/New_York
BEGIN:DAYLIGHT
TZOFFSETFROM:-0500
TZOFFSETTO:-0400
TZNAME:EDT
DTSTART:20260308T070000
END:DAYLIGHT
BEGIN:STANDARD
TZOFFSETFROM:-0400
TZOFFSETTO:-0500
TZNAME:EST
DTSTART:20261101T060000
END:STANDARD
BEGIN:DAYLIGHT
TZOFFSETFROM:-0500
TZOFFSETTO:-0400
TZNAME:EDT
DTSTART:20270314T070000
END:DAYLIGHT
BEGIN:STANDARD
TZOFFSETFROM:-0400
TZOFFSETTO:-0500
TZNAME:EST
DTSTART:20271107T060000
END:STANDARD
END:VTIMEZONE
BEGIN:VEVENT
DTSTART;TZID=America/New_York:20261014T121500
DTEND;TZID=America/New_York:20261014T131500
DTSTAMP:20260423T210639
CREATED:20250103T174953Z
LAST-MODIFIED:20251126T194456Z
UID:10002018-1791980100-1791983700@paramountclub.pgre.com
SUMMARY:Barre Class
DESCRIPTION:Barre class is a workout technique inspired by elements of ballet\, yoga\, and Pilates. It focuses on low-impact\, high-intensity movements using the ballet bar and other props to support and lengthen the spine and extremities. \nSign up for our barre class every Wednesday at 12:15pm\, at Paramount Wellness!
URL:https://paramountclub.pgre.com/events-calendar/barre-class/2026-10-14/
LOCATION:Paramount Wellness\, 1301 Avenue of the Americas\, New York\, NY\, 10019\, United States
CATEGORIES:Wellness
ATTACH;FMTTYPE=image/jpeg:https://paramountclub.pgre.com/wp-content/uploads/2025/01/Barre.jpg
ORGANIZER;CN="Paramount Wellness":MAILTO:wellness@paramount.club
END:VEVENT
BEGIN:VEVENT
DTSTART;TZID=America/New_York:20261021T121500
DTEND;TZID=America/New_York:20261021T131500
DTSTAMP:20260423T210639
CREATED:20250103T174953Z
LAST-MODIFIED:20251126T194456Z
UID:10002019-1792584900-1792588500@paramountclub.pgre.com
SUMMARY:Barre Class
DESCRIPTION:Barre class is a workout technique inspired by elements of ballet\, yoga\, and Pilates. It focuses on low-impact\, high-intensity movements using the ballet bar and other props to support and lengthen the spine and extremities. \nSign up for our barre class every Wednesday at 12:15pm\, at Paramount Wellness!
URL:https://paramountclub.pgre.com/events-calendar/barre-class/2026-10-21/
LOCATION:Paramount Wellness\, 1301 Avenue of the Americas\, New York\, NY\, 10019\, United States
CATEGORIES:Wellness
ATTACH;FMTTYPE=image/jpeg:https://paramountclub.pgre.com/wp-content/uploads/2025/01/Barre.jpg
ORGANIZER;CN="Paramount Wellness":MAILTO:wellness@paramount.club
END:VEVENT
BEGIN:VEVENT
DTSTART;TZID=America/New_York:20261028T121500
DTEND;TZID=America/New_York:20261028T131500
DTSTAMP:20260423T210639
CREATED:20250103T174953Z
LAST-MODIFIED:20251126T194456Z
UID:10002020-1793189700-1793193300@paramountclub.pgre.com
SUMMARY:Barre Class
DESCRIPTION:Barre class is a workout technique inspired by elements of ballet\, yoga\, and Pilates. It focuses on low-impact\, high-intensity movements using the ballet bar and other props to support and lengthen the spine and extremities. \nSign up for our barre class every Wednesday at 12:15pm\, at Paramount Wellness!
URL:https://paramountclub.pgre.com/events-calendar/barre-class/2026-10-28/
LOCATION:Paramount Wellness\, 1301 Avenue of the Americas\, New York\, NY\, 10019\, United States
CATEGORIES:Wellness
ATTACH;FMTTYPE=image/jpeg:https://paramountclub.pgre.com/wp-content/uploads/2025/01/Barre.jpg
ORGANIZER;CN="Paramount Wellness":MAILTO:wellness@paramount.club
END:VEVENT
BEGIN:VEVENT
DTSTART;TZID=America/New_York:20261104T121500
DTEND;TZID=America/New_York:20261104T131500
DTSTAMP:20260423T210639
CREATED:20250103T174953Z
LAST-MODIFIED:20251126T194456Z
UID:10002021-1793794500-1793798100@paramountclub.pgre.com
SUMMARY:Barre Class
DESCRIPTION:Barre class is a workout technique inspired by elements of ballet\, yoga\, and Pilates. It focuses on low-impact\, high-intensity movements using the ballet bar and other props to support and lengthen the spine and extremities. \nSign up for our barre class every Wednesday at 12:15pm\, at Paramount Wellness!
URL:https://paramountclub.pgre.com/events-calendar/barre-class/2026-11-04/
LOCATION:Paramount Wellness\, 1301 Avenue of the Americas\, New York\, NY\, 10019\, United States
CATEGORIES:Wellness
ATTACH;FMTTYPE=image/jpeg:https://paramountclub.pgre.com/wp-content/uploads/2025/01/Barre.jpg
ORGANIZER;CN="Paramount Wellness":MAILTO:wellness@paramount.club
END:VEVENT
BEGIN:VEVENT
DTSTART;TZID=America/New_York:20261111T121500
DTEND;TZID=America/New_York:20261111T131500
DTSTAMP:20260423T210639
CREATED:20250103T174953Z
LAST-MODIFIED:20251126T194456Z
UID:10002022-1794399300-1794402900@paramountclub.pgre.com
SUMMARY:Barre Class
DESCRIPTION:Barre class is a workout technique inspired by elements of ballet\, yoga\, and Pilates. It focuses on low-impact\, high-intensity movements using the ballet bar and other props to support and lengthen the spine and extremities. \nSign up for our barre class every Wednesday at 12:15pm\, at Paramount Wellness!
URL:https://paramountclub.pgre.com/events-calendar/barre-class/2026-11-11/
LOCATION:Paramount Wellness\, 1301 Avenue of the Americas\, New York\, NY\, 10019\, United States
CATEGORIES:Wellness
ATTACH;FMTTYPE=image/jpeg:https://paramountclub.pgre.com/wp-content/uploads/2025/01/Barre.jpg
ORGANIZER;CN="Paramount Wellness":MAILTO:wellness@paramount.club
END:VEVENT
BEGIN:VEVENT
DTSTART;TZID=America/New_York:20261118T121500
DTEND;TZID=America/New_York:20261118T131500
DTSTAMP:20260423T210639
CREATED:20250103T174953Z
LAST-MODIFIED:20251126T194456Z
UID:10002023-1795004100-1795007700@paramountclub.pgre.com
SUMMARY:Barre Class
DESCRIPTION:Barre class is a workout technique inspired by elements of ballet\, yoga\, and Pilates. It focuses on low-impact\, high-intensity movements using the ballet bar and other props to support and lengthen the spine and extremities. \nSign up for our barre class every Wednesday at 12:15pm\, at Paramount Wellness!
URL:https://paramountclub.pgre.com/events-calendar/barre-class/2026-11-18/
LOCATION:Paramount Wellness\, 1301 Avenue of the Americas\, New York\, NY\, 10019\, United States
CATEGORIES:Wellness
ATTACH;FMTTYPE=image/jpeg:https://paramountclub.pgre.com/wp-content/uploads/2025/01/Barre.jpg
ORGANIZER;CN="Paramount Wellness":MAILTO:wellness@paramount.club
END:VEVENT
BEGIN:VEVENT
DTSTART;TZID=America/New_York:20261125T121500
DTEND;TZID=America/New_York:20261125T131500
DTSTAMP:20260423T210639
CREATED:20250103T174953Z
LAST-MODIFIED:20251126T194456Z
UID:10002024-1795608900-1795612500@paramountclub.pgre.com
SUMMARY:Barre Class
DESCRIPTION:Barre class is a workout technique inspired by elements of ballet\, yoga\, and Pilates. It focuses on low-impact\, high-intensity movements using the ballet bar and other props to support and lengthen the spine and extremities. \nSign up for our barre class every Wednesday at 12:15pm\, at Paramount Wellness!
URL:https://paramountclub.pgre.com/events-calendar/barre-class/2026-11-25/
LOCATION:Paramount Wellness\, 1301 Avenue of the Americas\, New York\, NY\, 10019\, United States
CATEGORIES:Wellness
ATTACH;FMTTYPE=image/jpeg:https://paramountclub.pgre.com/wp-content/uploads/2025/01/Barre.jpg
ORGANIZER;CN="Paramount Wellness":MAILTO:wellness@paramount.club
END:VEVENT
BEGIN:VEVENT
DTSTART;TZID=America/New_York:20261202T121500
DTEND;TZID=America/New_York:20261202T131500
DTSTAMP:20260423T210639
CREATED:20250103T174953Z
LAST-MODIFIED:20251126T194456Z
UID:10002025-1796213700-1796217300@paramountclub.pgre.com
SUMMARY:Barre Class
DESCRIPTION:Barre class is a workout technique inspired by elements of ballet\, yoga\, and Pilates. It focuses on low-impact\, high-intensity movements using the ballet bar and other props to support and lengthen the spine and extremities. \nSign up for our barre class every Wednesday at 12:15pm\, at Paramount Wellness!
URL:https://paramountclub.pgre.com/events-calendar/barre-class/2026-12-02/
LOCATION:Paramount Wellness\, 1301 Avenue of the Americas\, New York\, NY\, 10019\, United States
CATEGORIES:Wellness
ATTACH;FMTTYPE=image/jpeg:https://paramountclub.pgre.com/wp-content/uploads/2025/01/Barre.jpg
ORGANIZER;CN="Paramount Wellness":MAILTO:wellness@paramount.club
END:VEVENT
BEGIN:VEVENT
DTSTART;TZID=America/New_York:20261209T121500
DTEND;TZID=America/New_York:20261209T131500
DTSTAMP:20260423T210639
CREATED:20250103T174953Z
LAST-MODIFIED:20251126T194456Z
UID:10002026-1796818500-1796822100@paramountclub.pgre.com
SUMMARY:Barre Class
DESCRIPTION:Barre class is a workout technique inspired by elements of ballet\, yoga\, and Pilates. It focuses on low-impact\, high-intensity movements using the ballet bar and other props to support and lengthen the spine and extremities. \nSign up for our barre class every Wednesday at 12:15pm\, at Paramount Wellness!
URL:https://paramountclub.pgre.com/events-calendar/barre-class/2026-12-09/
LOCATION:Paramount Wellness\, 1301 Avenue of the Americas\, New York\, NY\, 10019\, United States
CATEGORIES:Wellness
ATTACH;FMTTYPE=image/jpeg:https://paramountclub.pgre.com/wp-content/uploads/2025/01/Barre.jpg
ORGANIZER;CN="Paramount Wellness":MAILTO:wellness@paramount.club
END:VEVENT
BEGIN:VEVENT
DTSTART;TZID=America/New_York:20261216T121500
DTEND;TZID=America/New_York:20261216T131500
DTSTAMP:20260423T210639
CREATED:20250103T174953Z
LAST-MODIFIED:20251126T194456Z
UID:10002027-1797423300-1797426900@paramountclub.pgre.com
SUMMARY:Barre Class
DESCRIPTION:Barre class is a workout technique inspired by elements of ballet\, yoga\, and Pilates. It focuses on low-impact\, high-intensity movements using the ballet bar and other props to support and lengthen the spine and extremities. \nSign up for our barre class every Wednesday at 12:15pm\, at Paramount Wellness!
URL:https://paramountclub.pgre.com/events-calendar/barre-class/2026-12-16/
LOCATION:Paramount Wellness\, 1301 Avenue of the Americas\, New York\, NY\, 10019\, United States
CATEGORIES:Wellness
ATTACH;FMTTYPE=image/jpeg:https://paramountclub.pgre.com/wp-content/uploads/2025/01/Barre.jpg
ORGANIZER;CN="Paramount Wellness":MAILTO:wellness@paramount.club
END:VEVENT
BEGIN:VEVENT
DTSTART;TZID=America/New_York:20261223T121500
DTEND;TZID=America/New_York:20261223T131500
DTSTAMP:20260423T210639
CREATED:20250103T174953Z
LAST-MODIFIED:20251126T194456Z
UID:10002028-1798028100-1798031700@paramountclub.pgre.com
SUMMARY:Barre Class
DESCRIPTION:Barre class is a workout technique inspired by elements of ballet\, yoga\, and Pilates. It focuses on low-impact\, high-intensity movements using the ballet bar and other props to support and lengthen the spine and extremities. \nSign up for our barre class every Wednesday at 12:15pm\, at Paramount Wellness!
URL:https://paramountclub.pgre.com/events-calendar/barre-class/2026-12-23/
LOCATION:Paramount Wellness\, 1301 Avenue of the Americas\, New York\, NY\, 10019\, United States
CATEGORIES:Wellness
ATTACH;FMTTYPE=image/jpeg:https://paramountclub.pgre.com/wp-content/uploads/2025/01/Barre.jpg
ORGANIZER;CN="Paramount Wellness":MAILTO:wellness@paramount.club
END:VEVENT
BEGIN:VEVENT
DTSTART;TZID=America/New_York:20261230T121500
DTEND;TZID=America/New_York:20261230T131500
DTSTAMP:20260423T210639
CREATED:20250103T174953Z
LAST-MODIFIED:20251126T194456Z
UID:10002029-1798632900-1798636500@paramountclub.pgre.com
SUMMARY:Barre Class
DESCRIPTION:Barre class is a workout technique inspired by elements of ballet\, yoga\, and Pilates. It focuses on low-impact\, high-intensity movements using the ballet bar and other props to support and lengthen the spine and extremities. \nSign up for our barre class every Wednesday at 12:15pm\, at Paramount Wellness!
URL:https://paramountclub.pgre.com/events-calendar/barre-class/2026-12-30/
LOCATION:Paramount Wellness\, 1301 Avenue of the Americas\, New York\, NY\, 10019\, United States
CATEGORIES:Wellness
ATTACH;FMTTYPE=image/jpeg:https://paramountclub.pgre.com/wp-content/uploads/2025/01/Barre.jpg
ORGANIZER;CN="Paramount Wellness":MAILTO:wellness@paramount.club
END:VEVENT
BEGIN:VEVENT
DTSTART;TZID=America/New_York:20270106T121500
DTEND;TZID=America/New_York:20270106T131500
DTSTAMP:20260423T210639
CREATED:20250103T174953Z
LAST-MODIFIED:20251126T194456Z
UID:10002030-1799237700-1799241300@paramountclub.pgre.com
SUMMARY:Barre Class
DESCRIPTION:Barre class is a workout technique inspired by elements of ballet\, yoga\, and Pilates. It focuses on low-impact\, high-intensity movements using the ballet bar and other props to support and lengthen the spine and extremities. \nSign up for our barre class every Wednesday at 12:15pm\, at Paramount Wellness!
URL:https://paramountclub.pgre.com/events-calendar/barre-class/2027-01-06/
LOCATION:Paramount Wellness\, 1301 Avenue of the Americas\, New York\, NY\, 10019\, United States
CATEGORIES:Wellness
ATTACH;FMTTYPE=image/jpeg:https://paramountclub.pgre.com/wp-content/uploads/2025/01/Barre.jpg
ORGANIZER;CN="Paramount Wellness":MAILTO:wellness@paramount.club
END:VEVENT
BEGIN:VEVENT
DTSTART;TZID=America/New_York:20270113T121500
DTEND;TZID=America/New_York:20270113T131500
DTSTAMP:20260423T210639
CREATED:20250103T174953Z
LAST-MODIFIED:20251126T194456Z
UID:10002031-1799842500-1799846100@paramountclub.pgre.com
SUMMARY:Barre Class
DESCRIPTION:Barre class is a workout technique inspired by elements of ballet\, yoga\, and Pilates. It focuses on low-impact\, high-intensity movements using the ballet bar and other props to support and lengthen the spine and extremities. \nSign up for our barre class every Wednesday at 12:15pm\, at Paramount Wellness!
URL:https://paramountclub.pgre.com/events-calendar/barre-class/2027-01-13/
LOCATION:Paramount Wellness\, 1301 Avenue of the Americas\, New York\, NY\, 10019\, United States
CATEGORIES:Wellness
ATTACH;FMTTYPE=image/jpeg:https://paramountclub.pgre.com/wp-content/uploads/2025/01/Barre.jpg
ORGANIZER;CN="Paramount Wellness":MAILTO:wellness@paramount.club
END:VEVENT
BEGIN:VEVENT
DTSTART;TZID=America/New_York:20270120T121500
DTEND;TZID=America/New_York:20270120T131500
DTSTAMP:20260423T210639
CREATED:20250103T174953Z
LAST-MODIFIED:20251126T194456Z
UID:10002032-1800447300-1800450900@paramountclub.pgre.com
SUMMARY:Barre Class
DESCRIPTION:Barre class is a workout technique inspired by elements of ballet\, yoga\, and Pilates. It focuses on low-impact\, high-intensity movements using the ballet bar and other props to support and lengthen the spine and extremities. \nSign up for our barre class every Wednesday at 12:15pm\, at Paramount Wellness!
URL:https://paramountclub.pgre.com/events-calendar/barre-class/2027-01-20/
LOCATION:Paramount Wellness\, 1301 Avenue of the Americas\, New York\, NY\, 10019\, United States
CATEGORIES:Wellness
ATTACH;FMTTYPE=image/jpeg:https://paramountclub.pgre.com/wp-content/uploads/2025/01/Barre.jpg
ORGANIZER;CN="Paramount Wellness":MAILTO:wellness@paramount.club
END:VEVENT
BEGIN:VEVENT
DTSTART;TZID=America/New_York:20270127T121500
DTEND;TZID=America/New_York:20270127T131500
DTSTAMP:20260423T210639
CREATED:20250103T174953Z
LAST-MODIFIED:20251126T194456Z
UID:10002033-1801052100-1801055700@paramountclub.pgre.com
SUMMARY:Barre Class
DESCRIPTION:Barre class is a workout technique inspired by elements of ballet\, yoga\, and Pilates. It focuses on low-impact\, high-intensity movements using the ballet bar and other props to support and lengthen the spine and extremities. \nSign up for our barre class every Wednesday at 12:15pm\, at Paramount Wellness!
URL:https://paramountclub.pgre.com/events-calendar/barre-class/2027-01-27/
LOCATION:Paramount Wellness\, 1301 Avenue of the Americas\, New York\, NY\, 10019\, United States
CATEGORIES:Wellness
ATTACH;FMTTYPE=image/jpeg:https://paramountclub.pgre.com/wp-content/uploads/2025/01/Barre.jpg
ORGANIZER;CN="Paramount Wellness":MAILTO:wellness@paramount.club
END:VEVENT
BEGIN:VEVENT
DTSTART;TZID=America/New_York:20270203T121500
DTEND;TZID=America/New_York:20270203T131500
DTSTAMP:20260423T210639
CREATED:20250103T174953Z
LAST-MODIFIED:20251126T194456Z
UID:10002034-1801656900-1801660500@paramountclub.pgre.com
SUMMARY:Barre Class
DESCRIPTION:Barre class is a workout technique inspired by elements of ballet\, yoga\, and Pilates. It focuses on low-impact\, high-intensity movements using the ballet bar and other props to support and lengthen the spine and extremities. \nSign up for our barre class every Wednesday at 12:15pm\, at Paramount Wellness!
URL:https://paramountclub.pgre.com/events-calendar/barre-class/2027-02-03/
LOCATION:Paramount Wellness\, 1301 Avenue of the Americas\, New York\, NY\, 10019\, United States
CATEGORIES:Wellness
ATTACH;FMTTYPE=image/jpeg:https://paramountclub.pgre.com/wp-content/uploads/2025/01/Barre.jpg
ORGANIZER;CN="Paramount Wellness":MAILTO:wellness@paramount.club
END:VEVENT
BEGIN:VEVENT
DTSTART;TZID=America/New_York:20270210T121500
DTEND;TZID=America/New_York:20270210T131500
DTSTAMP:20260423T210639
CREATED:20250103T174953Z
LAST-MODIFIED:20251126T194456Z
UID:10002035-1802261700-1802265300@paramountclub.pgre.com
SUMMARY:Barre Class
DESCRIPTION:Barre class is a workout technique inspired by elements of ballet\, yoga\, and Pilates. It focuses on low-impact\, high-intensity movements using the ballet bar and other props to support and lengthen the spine and extremities. \nSign up for our barre class every Wednesday at 12:15pm\, at Paramount Wellness!
URL:https://paramountclub.pgre.com/events-calendar/barre-class/2027-02-10/
LOCATION:Paramount Wellness\, 1301 Avenue of the Americas\, New York\, NY\, 10019\, United States
CATEGORIES:Wellness
ATTACH;FMTTYPE=image/jpeg:https://paramountclub.pgre.com/wp-content/uploads/2025/01/Barre.jpg
ORGANIZER;CN="Paramount Wellness":MAILTO:wellness@paramount.club
END:VEVENT
BEGIN:VEVENT
DTSTART;TZID=America/New_York:20270217T121500
DTEND;TZID=America/New_York:20270217T131500
DTSTAMP:20260423T210639
CREATED:20250103T174953Z
LAST-MODIFIED:20251126T194456Z
UID:10002036-1802866500-1802870100@paramountclub.pgre.com
SUMMARY:Barre Class
DESCRIPTION:Barre class is a workout technique inspired by elements of ballet\, yoga\, and Pilates. It focuses on low-impact\, high-intensity movements using the ballet bar and other props to support and lengthen the spine and extremities. \nSign up for our barre class every Wednesday at 12:15pm\, at Paramount Wellness!
URL:https://paramountclub.pgre.com/events-calendar/barre-class/2027-02-17/
LOCATION:Paramount Wellness\, 1301 Avenue of the Americas\, New York\, NY\, 10019\, United States
CATEGORIES:Wellness
ATTACH;FMTTYPE=image/jpeg:https://paramountclub.pgre.com/wp-content/uploads/2025/01/Barre.jpg
ORGANIZER;CN="Paramount Wellness":MAILTO:wellness@paramount.club
END:VEVENT
BEGIN:VEVENT
DTSTART;TZID=America/New_York:20270224T121500
DTEND;TZID=America/New_York:20270224T131500
DTSTAMP:20260423T210639
CREATED:20250103T174953Z
LAST-MODIFIED:20251126T194456Z
UID:10002037-1803471300-1803474900@paramountclub.pgre.com
SUMMARY:Barre Class
DESCRIPTION:Barre class is a workout technique inspired by elements of ballet\, yoga\, and Pilates. It focuses on low-impact\, high-intensity movements using the ballet bar and other props to support and lengthen the spine and extremities. \nSign up for our barre class every Wednesday at 12:15pm\, at Paramount Wellness!
URL:https://paramountclub.pgre.com/events-calendar/barre-class/2027-02-24/
LOCATION:Paramount Wellness\, 1301 Avenue of the Americas\, New York\, NY\, 10019\, United States
CATEGORIES:Wellness
ATTACH;FMTTYPE=image/jpeg:https://paramountclub.pgre.com/wp-content/uploads/2025/01/Barre.jpg
ORGANIZER;CN="Paramount Wellness":MAILTO:wellness@paramount.club
END:VEVENT
BEGIN:VEVENT
DTSTART;TZID=America/New_York:20270303T121500
DTEND;TZID=America/New_York:20270303T131500
DTSTAMP:20260423T210639
CREATED:20250103T174953Z
LAST-MODIFIED:20251126T194456Z
UID:10002038-1804076100-1804079700@paramountclub.pgre.com
SUMMARY:Barre Class
DESCRIPTION:Barre class is a workout technique inspired by elements of ballet\, yoga\, and Pilates. It focuses on low-impact\, high-intensity movements using the ballet bar and other props to support and lengthen the spine and extremities. \nSign up for our barre class every Wednesday at 12:15pm\, at Paramount Wellness!
URL:https://paramountclub.pgre.com/events-calendar/barre-class/2027-03-03/
LOCATION:Paramount Wellness\, 1301 Avenue of the Americas\, New York\, NY\, 10019\, United States
CATEGORIES:Wellness
ATTACH;FMTTYPE=image/jpeg:https://paramountclub.pgre.com/wp-content/uploads/2025/01/Barre.jpg
ORGANIZER;CN="Paramount Wellness":MAILTO:wellness@paramount.club
END:VEVENT
BEGIN:VEVENT
DTSTART;TZID=America/New_York:20270310T121500
DTEND;TZID=America/New_York:20270310T131500
DTSTAMP:20260423T210639
CREATED:20250103T174953Z
LAST-MODIFIED:20251126T194456Z
UID:10002039-1804680900-1804684500@paramountclub.pgre.com
SUMMARY:Barre Class
DESCRIPTION:Barre class is a workout technique inspired by elements of ballet\, yoga\, and Pilates. It focuses on low-impact\, high-intensity movements using the ballet bar and other props to support and lengthen the spine and extremities. \nSign up for our barre class every Wednesday at 12:15pm\, at Paramount Wellness!
URL:https://paramountclub.pgre.com/events-calendar/barre-class/2027-03-10/
LOCATION:Paramount Wellness\, 1301 Avenue of the Americas\, New York\, NY\, 10019\, United States
CATEGORIES:Wellness
ATTACH;FMTTYPE=image/jpeg:https://paramountclub.pgre.com/wp-content/uploads/2025/01/Barre.jpg
ORGANIZER;CN="Paramount Wellness":MAILTO:wellness@paramount.club
END:VEVENT
BEGIN:VEVENT
DTSTART;TZID=America/New_York:20270317T121500
DTEND;TZID=America/New_York:20270317T131500
DTSTAMP:20260423T210639
CREATED:20250103T174953Z
LAST-MODIFIED:20251126T194456Z
UID:10002040-1805285700-1805289300@paramountclub.pgre.com
SUMMARY:Barre Class
DESCRIPTION:Barre class is a workout technique inspired by elements of ballet\, yoga\, and Pilates. It focuses on low-impact\, high-intensity movements using the ballet bar and other props to support and lengthen the spine and extremities. \nSign up for our barre class every Wednesday at 12:15pm\, at Paramount Wellness!
URL:https://paramountclub.pgre.com/events-calendar/barre-class/2027-03-17/
LOCATION:Paramount Wellness\, 1301 Avenue of the Americas\, New York\, NY\, 10019\, United States
CATEGORIES:Wellness
ATTACH;FMTTYPE=image/jpeg:https://paramountclub.pgre.com/wp-content/uploads/2025/01/Barre.jpg
ORGANIZER;CN="Paramount Wellness":MAILTO:wellness@paramount.club
END:VEVENT
BEGIN:VEVENT
DTSTART;TZID=America/New_York:20270324T121500
DTEND;TZID=America/New_York:20270324T131500
DTSTAMP:20260423T210639
CREATED:20250103T174953Z
LAST-MODIFIED:20251126T194456Z
UID:10002041-1805890500-1805894100@paramountclub.pgre.com
SUMMARY:Barre Class
DESCRIPTION:Barre class is a workout technique inspired by elements of ballet\, yoga\, and Pilates. It focuses on low-impact\, high-intensity movements using the ballet bar and other props to support and lengthen the spine and extremities. \nSign up for our barre class every Wednesday at 12:15pm\, at Paramount Wellness!
URL:https://paramountclub.pgre.com/events-calendar/barre-class/2027-03-24/
LOCATION:Paramount Wellness\, 1301 Avenue of the Americas\, New York\, NY\, 10019\, United States
CATEGORIES:Wellness
ATTACH;FMTTYPE=image/jpeg:https://paramountclub.pgre.com/wp-content/uploads/2025/01/Barre.jpg
ORGANIZER;CN="Paramount Wellness":MAILTO:wellness@paramount.club
END:VEVENT
BEGIN:VEVENT
DTSTART;TZID=America/New_York:20270331T121500
DTEND;TZID=America/New_York:20270331T131500
DTSTAMP:20260423T210639
CREATED:20250103T174953Z
LAST-MODIFIED:20251126T194456Z
UID:10002042-1806495300-1806498900@paramountclub.pgre.com
SUMMARY:Barre Class
DESCRIPTION:Barre class is a workout technique inspired by elements of ballet\, yoga\, and Pilates. It focuses on low-impact\, high-intensity movements using the ballet bar and other props to support and lengthen the spine and extremities. \nSign up for our barre class every Wednesday at 12:15pm\, at Paramount Wellness!
URL:https://paramountclub.pgre.com/events-calendar/barre-class/2027-03-31/
LOCATION:Paramount Wellness\, 1301 Avenue of the Americas\, New York\, NY\, 10019\, United States
CATEGORIES:Wellness
ATTACH;FMTTYPE=image/jpeg:https://paramountclub.pgre.com/wp-content/uploads/2025/01/Barre.jpg
ORGANIZER;CN="Paramount Wellness":MAILTO:wellness@paramount.club
END:VEVENT
BEGIN:VEVENT
DTSTART;TZID=America/New_York:20270407T121500
DTEND;TZID=America/New_York:20270407T131500
DTSTAMP:20260423T210639
CREATED:20250103T174953Z
LAST-MODIFIED:20251126T194456Z
UID:10002043-1807100100-1807103700@paramountclub.pgre.com
SUMMARY:Barre Class
DESCRIPTION:Barre class is a workout technique inspired by elements of ballet\, yoga\, and Pilates. It focuses on low-impact\, high-intensity movements using the ballet bar and other props to support and lengthen the spine and extremities. \nSign up for our barre class every Wednesday at 12:15pm\, at Paramount Wellness!
URL:https://paramountclub.pgre.com/events-calendar/barre-class/2027-04-07/
LOCATION:Paramount Wellness\, 1301 Avenue of the Americas\, New York\, NY\, 10019\, United States
CATEGORIES:Wellness
ATTACH;FMTTYPE=image/jpeg:https://paramountclub.pgre.com/wp-content/uploads/2025/01/Barre.jpg
ORGANIZER;CN="Paramount Wellness":MAILTO:wellness@paramount.club
END:VEVENT
BEGIN:VEVENT
DTSTART;TZID=America/New_York:20270414T121500
DTEND;TZID=America/New_York:20270414T131500
DTSTAMP:20260423T210639
CREATED:20250103T174953Z
LAST-MODIFIED:20251126T194456Z
UID:10002044-1807704900-1807708500@paramountclub.pgre.com
SUMMARY:Barre Class
DESCRIPTION:Barre class is a workout technique inspired by elements of ballet\, yoga\, and Pilates. It focuses on low-impact\, high-intensity movements using the ballet bar and other props to support and lengthen the spine and extremities. \nSign up for our barre class every Wednesday at 12:15pm\, at Paramount Wellness!
URL:https://paramountclub.pgre.com/events-calendar/barre-class/2027-04-14/
LOCATION:Paramount Wellness\, 1301 Avenue of the Americas\, New York\, NY\, 10019\, United States
CATEGORIES:Wellness
ATTACH;FMTTYPE=image/jpeg:https://paramountclub.pgre.com/wp-content/uploads/2025/01/Barre.jpg
ORGANIZER;CN="Paramount Wellness":MAILTO:wellness@paramount.club
END:VEVENT
BEGIN:VEVENT
DTSTART;TZID=America/New_York:20270421T121500
DTEND;TZID=America/New_York:20270421T131500
DTSTAMP:20260423T210639
CREATED:20250103T174953Z
LAST-MODIFIED:20251126T194456Z
UID:10002045-1808309700-1808313300@paramountclub.pgre.com
SUMMARY:Barre Class
DESCRIPTION:Barre class is a workout technique inspired by elements of ballet\, yoga\, and Pilates. It focuses on low-impact\, high-intensity movements using the ballet bar and other props to support and lengthen the spine and extremities. \nSign up for our barre class every Wednesday at 12:15pm\, at Paramount Wellness!
URL:https://paramountclub.pgre.com/events-calendar/barre-class/2027-04-21/
LOCATION:Paramount Wellness\, 1301 Avenue of the Americas\, New York\, NY\, 10019\, United States
CATEGORIES:Wellness
ATTACH;FMTTYPE=image/jpeg:https://paramountclub.pgre.com/wp-content/uploads/2025/01/Barre.jpg
ORGANIZER;CN="Paramount Wellness":MAILTO:wellness@paramount.club
END:VEVENT
BEGIN:VEVENT
DTSTART;TZID=America/New_York:20270428T121500
DTEND;TZID=America/New_York:20270428T131500
DTSTAMP:20260423T210639
CREATED:20250103T174953Z
LAST-MODIFIED:20251126T194456Z
UID:10002046-1808914500-1808918100@paramountclub.pgre.com
SUMMARY:Barre Class
DESCRIPTION:Barre class is a workout technique inspired by elements of ballet\, yoga\, and Pilates. It focuses on low-impact\, high-intensity movements using the ballet bar and other props to support and lengthen the spine and extremities. \nSign up for our barre class every Wednesday at 12:15pm\, at Paramount Wellness!
URL:https://paramountclub.pgre.com/events-calendar/barre-class/2027-04-28/
LOCATION:Paramount Wellness\, 1301 Avenue of the Americas\, New York\, NY\, 10019\, United States
CATEGORIES:Wellness
ATTACH;FMTTYPE=image/jpeg:https://paramountclub.pgre.com/wp-content/uploads/2025/01/Barre.jpg
ORGANIZER;CN="Paramount Wellness":MAILTO:wellness@paramount.club
END:VEVENT
BEGIN:VEVENT
DTSTART;TZID=America/New_York:20270505T121500
DTEND;TZID=America/New_York:20270505T131500
DTSTAMP:20260423T210639
CREATED:20250103T174953Z
LAST-MODIFIED:20251126T194456Z
UID:10002047-1809519300-1809522900@paramountclub.pgre.com
SUMMARY:Barre Class
DESCRIPTION:Barre class is a workout technique inspired by elements of ballet\, yoga\, and Pilates. It focuses on low-impact\, high-intensity movements using the ballet bar and other props to support and lengthen the spine and extremities. \nSign up for our barre class every Wednesday at 12:15pm\, at Paramount Wellness!
URL:https://paramountclub.pgre.com/events-calendar/barre-class/2027-05-05/
LOCATION:Paramount Wellness\, 1301 Avenue of the Americas\, New York\, NY\, 10019\, United States
CATEGORIES:Wellness
ATTACH;FMTTYPE=image/jpeg:https://paramountclub.pgre.com/wp-content/uploads/2025/01/Barre.jpg
ORGANIZER;CN="Paramount Wellness":MAILTO:wellness@paramount.club
END:VEVENT
END:VCALENDAR