BEGIN:VCALENDAR
VERSION:2.0
PRODID:-//Paramount Club - ECPv6.13.2.1//NONSGML v1.0//EN
CALSCALE:GREGORIAN
METHOD:PUBLISH
X-WR-CALNAME:Paramount Club
X-ORIGINAL-URL:https://paramountclub.pgre.com
X-WR-CALDESC:Events for Paramount Club
REFRESH-INTERVAL;VALUE=DURATION:PT1H
X-Robots-Tag:noindex
X-PUBLISHED-TTL:PT1H
BEGIN:VTIMEZONE
TZID:America/New_York
BEGIN:DAYLIGHT
TZOFFSETFROM:-0500
TZOFFSETTO:-0400
TZNAME:EDT
DTSTART:20250309T070000
END:DAYLIGHT
BEGIN:STANDARD
TZOFFSETFROM:-0400
TZOFFSETTO:-0500
TZNAME:EST
DTSTART:20251102T060000
END:STANDARD
END:VTIMEZONE
BEGIN:VEVENT
DTSTART;TZID=America/New_York:20250709T140000
DTEND;TZID=America/New_York:20250709T170000
DTSTAMP:20260424T003317
CREATED:20250708T154747Z
LAST-MODIFIED:20250708T154747Z
UID:10003857-1752069600-1752080400@paramountclub.pgre.com
SUMMARY:Sweet Treat Wednesday
DESCRIPTION:Sweeten your Wednesdays this July at the Paramount Café! Each week features a delightful treat you won’t want to miss—available for purchase at the café from 2:00pm-5:00pm. \nJuly 9th: indulge in rich\, creamy affogatos—the perfect pick-me-up for summer afternoons. \nJuly 16th: Cool down with a refreshing combo of juicy peaches and vanilla ice cream. \nJuly 23rd: Savor ice cream sandwiches made with our signature chocolate chip cookies. \nJuly 30th: Dig into decadent mud pies crafted with homemade cookies.
URL:https://paramountclub.pgre.com/events-calendar/sweet-treat-wednesday/2025-07-09/
CATEGORIES:Club Promotions
ATTACH;FMTTYPE=image/png:https://paramountclub.pgre.com/wp-content/uploads/2025/07/Sweet-Treat-Wednesday.png
END:VEVENT
END:VCALENDAR