BEGIN:VCALENDAR
VERSION:2.0
PRODID:-//Paramount Club - ECPv6.13.2.1//NONSGML v1.0//EN
CALSCALE:GREGORIAN
METHOD:PUBLISH
X-WR-CALNAME:Paramount Club
X-ORIGINAL-URL:https://paramountclub.pgre.com
X-WR-CALDESC:Events for Paramount Club
REFRESH-INTERVAL;VALUE=DURATION:PT1H
X-Robots-Tag:noindex
X-PUBLISHED-TTL:PT1H
BEGIN:VTIMEZONE
TZID:America/New_York
BEGIN:DAYLIGHT
TZOFFSETFROM:-0500
TZOFFSETTO:-0400
TZNAME:EDT
DTSTART:20250309T070000
END:DAYLIGHT
BEGIN:STANDARD
TZOFFSETFROM:-0400
TZOFFSETTO:-0500
TZNAME:EST
DTSTART:20251102T060000
END:STANDARD
END:VTIMEZONE
BEGIN:VEVENT
DTSTART;TZID=America/New_York:20250422T180000
DTEND;TZID=America/New_York:20250422T190000
DTSTAMP:20260424T121751
CREATED:20250403T203225Z
LAST-MODIFIED:20250411T173559Z
UID:2305-1745344800-1745348400@paramountclub.pgre.com
SUMMARY:The Legacy of Glenmorangie: Exclusive Tasting
DESCRIPTION:Indulge in four distinct Glenmorangie whiskey expressions\, perfectly paired with a delicious charcuterie selection. \n\nGlenmorangie 12-Year-Old The Original\nGlenmorangie 14-Year-Old The Quinta\nGlenmorangie 16-Year-Old The Nectar\nGlenmorangie 18-Year-Old Extremely Rare\n\nEach ticket purchased is entered to win a bottle of Glenmorangie 14-Year-Old The Quinta! \nPurchase your ticket. \n*Note: All Paramount Club programming is exclusive for members of the Paramount Club and their registered guests.
URL:https://paramountclub.pgre.com/events-calendar/the-legacy-of-glenmorangie-exclusive-tasting/
CATEGORIES:Club Events
ATTACH;FMTTYPE=image/png:https://paramountclub.pgre.com/wp-content/uploads/2025/04/Website-Event-Imagery-1080-x-710-px-6.png
END:VEVENT
END:VCALENDAR