BEGIN:VCALENDAR
VERSION:2.0
PRODID:-//Paramount Club - ECPv6.13.2.1//NONSGML v1.0//EN
CALSCALE:GREGORIAN
METHOD:PUBLISH
X-WR-CALNAME:Paramount Club
X-ORIGINAL-URL:https://paramountclub.pgre.com
X-WR-CALDESC:Events for Paramount Club
REFRESH-INTERVAL;VALUE=DURATION:PT1H
X-Robots-Tag:noindex
X-PUBLISHED-TTL:PT1H
BEGIN:VTIMEZONE
TZID:America/New_York
BEGIN:DAYLIGHT
TZOFFSETFROM:-0500
TZOFFSETTO:-0400
TZNAME:EDT
DTSTART:20260308T070000
END:DAYLIGHT
BEGIN:STANDARD
TZOFFSETFROM:-0400
TZOFFSETTO:-0500
TZNAME:EST
DTSTART:20261101T060000
END:STANDARD
END:VTIMEZONE
BEGIN:VEVENT
DTSTART;TZID=America/New_York:20260120T180000
DTEND;TZID=America/New_York:20260120T190000
DTSTAMP:20260423T203831
CREATED:20251223T170036Z
LAST-MODIFIED:20251222T193937Z
UID:3219-1768932000-1768935600@paramountclub.pgre.com
SUMMARY:The SotoMethod Residency at Paramount Wellness
DESCRIPTION:Introducing: The SotoMethod Residency at Paramount Wellness\nWe are expanding our wellness offerings with a SotoMethod residency throughout January taught by Katie Call.\n\nWhen: Tuesdays — January 13\,\n20\, and 27\nTime: 6:00 p.m.\nSpecial Offer: Book 3 SotoMethod residency classes for $100
URL:https://paramountclub.pgre.com/events-calendar/the-sotomethod-residency-at-paramount-wellness-2/
LOCATION:Paramount Wellness\, 1301 Avenue of the Americas\, New York\, NY\, 10019\, United States
CATEGORIES:Wellness
ATTACH;FMTTYPE=image/png:https://paramountclub.pgre.com/wp-content/uploads/2025/12/Website-Event-Imagery-1080-x-710-px-35.png
END:VEVENT
END:VCALENDAR