BEGIN:VCALENDAR
VERSION:2.0
PRODID:-//Paramount Club - ECPv6.13.2.1//NONSGML v1.0//EN
CALSCALE:GREGORIAN
METHOD:PUBLISH
X-WR-CALNAME:Paramount Club
X-ORIGINAL-URL:https://paramountclub.pgre.com
X-WR-CALDESC:Events for Paramount Club
REFRESH-INTERVAL;VALUE=DURATION:PT1H
X-Robots-Tag:noindex
X-PUBLISHED-TTL:PT1H
BEGIN:VTIMEZONE
TZID:America/New_York
BEGIN:DAYLIGHT
TZOFFSETFROM:-0500
TZOFFSETTO:-0400
TZNAME:EDT
DTSTART:20260308T070000
END:DAYLIGHT
BEGIN:STANDARD
TZOFFSETFROM:-0400
TZOFFSETTO:-0500
TZNAME:EST
DTSTART:20261101T060000
END:STANDARD
END:VTIMEZONE
BEGIN:VEVENT
DTSTART;TZID=America/New_York:20260512T183000
DTEND;TZID=America/New_York:20260512T203000
DTSTAMP:20260423T173237
CREATED:20251222T140403Z
LAST-MODIFIED:20251222T140403Z
UID:10005345-1778610600-1778617800@paramountclub.pgre.com
SUMMARY:Trivia Night with TriviaNYC
DESCRIPTION:Challenge yourself and your colleagues with a night of fun and friendly competition in the Game Room! \nTrivia is complimentary\, limited spots available. Reserve your ticket. \nWant to host a private Trivia night for your team? Email events@paramount.club to inquire.
URL:https://paramountclub.pgre.com/events-calendar/trivia-night-with-trivianyc-4/2026-05-12/
CATEGORIES:Club Events
ATTACH;FMTTYPE=image/jpeg:https://paramountclub.pgre.com/wp-content/uploads/2025/06/af532493125baab84f480bb477600b02-H3m7eo.tmp_.jpg
END:VEVENT
END:VCALENDAR