BEGIN:VCALENDAR
VERSION:2.0
PRODID:-//Paramount Club - ECPv6.13.2.1//NONSGML v1.0//EN
CALSCALE:GREGORIAN
METHOD:PUBLISH
X-WR-CALNAME:Paramount Club
X-ORIGINAL-URL:https://paramountclub.pgre.com
X-WR-CALDESC:Events for Paramount Club
REFRESH-INTERVAL;VALUE=DURATION:PT1H
X-Robots-Tag:noindex
X-PUBLISHED-TTL:PT1H
BEGIN:VTIMEZONE
TZID:America/New_York
BEGIN:DAYLIGHT
TZOFFSETFROM:-0500
TZOFFSETTO:-0400
TZNAME:EDT
DTSTART:20250309T070000
END:DAYLIGHT
BEGIN:STANDARD
TZOFFSETFROM:-0400
TZOFFSETTO:-0500
TZNAME:EST
DTSTART:20251102T060000
END:STANDARD
END:VTIMEZONE
BEGIN:VEVENT
DTSTART;TZID=America/New_York:20250820T180000
DTEND;TZID=America/New_York:20250820T193000
DTSTAMP:20260424T051627
CREATED:20250826T193958Z
LAST-MODIFIED:20250826T194037Z
UID:10003948-1755712800-1755718200@paramountclub.pgre.com
SUMMARY:Turntables & Techniques: Learn to DJ
DESCRIPTION:Starting July 8th\, join us every Tuesday in July and every Wednesday in August for a hands-on DJ class series designed to take you from beginner to advanced. Learn to mix\, scratch\, curate playlists\, and more—no experience necessary! \nSecure Your Ticket \nTo prepare for class\, please download Serato DJ Lite found at this link: https://serato.com/dj/lite. Please import all of the music on your laptop into the program and analyze the files. This can take a few hours! Please bring your laptop as well as a set of headphones with a standard 1/8″ headphone jack. \nAugust 6 – House & EDM Mixing \nFocus on mixing techniques\, tension\, and effects unique to House and EDM. Learn to blend tracks using key\, structure\, and timing for smooth\, high-energy transitions. \nAugust 13 – Hip-Hop\, R&B & Reggaeton \nExplore transitions\, basic scratching\, and genre-specific song structures. Learn to mix and drop tracks with style across Hip-Hop\, R&B\, Dancehall\, and more. \nAugust 20 – Funk\, Rock\, Disco & Oldies \nLearn beatmatching\, swing\, and strategies for high-impact playlist building. Understand how to read the crowd and navigate groove vs. sing-along moments.
URL:https://paramountclub.pgre.com/events-calendar/turntables-techniques-learn-to-dj-2-2/2025-08-20/
CATEGORIES:Club Events
ATTACH;FMTTYPE=image/png:https://paramountclub.pgre.com/wp-content/uploads/2025/06/Website-Event-Imagery-1080-x-710-px-8.png
END:VEVENT
END:VCALENDAR