BEGIN:VCALENDAR
VERSION:2.0
PRODID:-//Paramount Club - ECPv6.13.2.1//NONSGML v1.0//EN
CALSCALE:GREGORIAN
METHOD:PUBLISH
X-WR-CALNAME:Paramount Club
X-ORIGINAL-URL:https://paramountclub.pgre.com
X-WR-CALDESC:Events for Paramount Club
REFRESH-INTERVAL;VALUE=DURATION:PT1H
X-Robots-Tag:noindex
X-PUBLISHED-TTL:PT1H
BEGIN:VTIMEZONE
TZID:America/New_York
BEGIN:DAYLIGHT
TZOFFSETFROM:-0500
TZOFFSETTO:-0400
TZNAME:EDT
DTSTART:20250309T070000
END:DAYLIGHT
BEGIN:STANDARD
TZOFFSETFROM:-0400
TZOFFSETTO:-0500
TZNAME:EST
DTSTART:20251102T060000
END:STANDARD
END:VTIMEZONE
BEGIN:VEVENT
DTSTART;TZID=America/New_York:20250521T173000
DTEND;TZID=America/New_York:20250521T193000
DTSTAMP:20260424T095752
CREATED:20250515T201227Z
LAST-MODIFIED:20250515T201227Z
UID:2579-1747848600-1747855800@paramountclub.pgre.com
SUMMARY:Well with Raele
DESCRIPTION:Join Raele Altano\, Certified Communication & Social Coach and influencer with 2.5 million TikTok views and 400\,000 Instagram followers. \nRaele will guide the audience through: \nSpeaking with Confidence\, Communicating with Intention\, Mastering Our Delivery\, Articulating Our Successes\, and Saying “NO” with Poise \nJoin us for this invaluable opportunity to sharpen your communication skills and elevate your presence. \nRSVP Here
URL:https://paramountclub.pgre.com/events-calendar/well-with-raele/
CATEGORIES:Club Events
ATTACH;FMTTYPE=image/png:https://paramountclub.pgre.com/wp-content/uploads/2025/05/Paramount_Hero_3.png
END:VEVENT
END:VCALENDAR