BEGIN:VCALENDAR
VERSION:2.0
PRODID:-//Paramount Club - ECPv6.13.2.1//NONSGML v1.0//EN
CALSCALE:GREGORIAN
METHOD:PUBLISH
X-WR-CALNAME:Paramount Club
X-ORIGINAL-URL:https://paramountclub.pgre.com
X-WR-CALDESC:Events for Paramount Club
REFRESH-INTERVAL;VALUE=DURATION:PT1H
X-Robots-Tag:noindex
X-PUBLISHED-TTL:PT1H
BEGIN:VTIMEZONE
TZID:America/New_York
BEGIN:DAYLIGHT
TZOFFSETFROM:-0500
TZOFFSETTO:-0400
TZNAME:EDT
DTSTART:20250309T070000
END:DAYLIGHT
BEGIN:STANDARD
TZOFFSETFROM:-0400
TZOFFSETTO:-0500
TZNAME:EST
DTSTART:20251102T060000
END:STANDARD
END:VTIMEZONE
BEGIN:VEVENT
DTSTART;TZID=America/New_York:20251022T120000
DTEND;TZID=America/New_York:20251022T140000
DTSTAMP:20260424T014510
CREATED:20251003T123049Z
LAST-MODIFIED:20251003T123049Z
UID:2909-1761134400-1761141600@paramountclub.pgre.com
SUMMARY:Wellness at Your Workspace at 900 Third Avenue
DESCRIPTION:Experiencing neck or back pain?\nReserve your complimentary ergonomic desk evaluation when we’re onsite in your building.\n  \nWednesday\, October 22nd \nAppointments are available from 12pm-2pm\, and we’ll come directly to you. \nExclusive for the tenants of 900 Third Avenue
URL:https://paramountclub.pgre.com/events-calendar/wellness-at-your-workspace-at-900-third-avenue/
CATEGORIES:Wellness
ATTACH;FMTTYPE=image/jpeg:https://paramountclub.pgre.com/wp-content/uploads/2025/06/iStock-187491090-scaled.jpg
ORGANIZER;CN="Paramount Wellness":MAILTO:wellness@paramount.club
END:VEVENT
END:VCALENDAR