BEGIN:VCALENDAR
VERSION:2.0
PRODID:-//Paramount Club - ECPv6.13.2.1//NONSGML v1.0//EN
CALSCALE:GREGORIAN
METHOD:PUBLISH
X-WR-CALNAME:Paramount Club
X-ORIGINAL-URL:https://paramountclub.pgre.com
X-WR-CALDESC:Events for Paramount Club
REFRESH-INTERVAL;VALUE=DURATION:PT1H
X-Robots-Tag:noindex
X-PUBLISHED-TTL:PT1H
BEGIN:VTIMEZONE
TZID:America/New_York
BEGIN:DAYLIGHT
TZOFFSETFROM:-0500
TZOFFSETTO:-0400
TZNAME:EDT
DTSTART:20250309T070000
END:DAYLIGHT
BEGIN:STANDARD
TZOFFSETFROM:-0400
TZOFFSETTO:-0500
TZNAME:EST
DTSTART:20251102T060000
END:STANDARD
END:VTIMEZONE
BEGIN:VEVENT
DTSTART;TZID=America/New_York:20251201T000000
DTEND;TZID=America/New_York:20251231T235900
DTSTAMP:20260423T202641
CREATED:20251126T194922Z
LAST-MODIFIED:20251126T194948Z
UID:3141-1764547200-1767225540@paramountclub.pgre.com
SUMMARY:Winter Wellness Combo at Paramount Wellness!
DESCRIPTION:Activate your winter shield with a Flu Shot and Tri-Immunity Injection! \n  \nFor the month of December\, \nGet both\, for the price of one! \nBundle includes the administration of a Flu Shot and Tri-Immunity Injection for $50 ($100 value). \n  \nBUNDLE NOT COMBINED WITH INSURANCE USAGE* \n*if you would like to check your insurance coverage for the injections\, please email a copy of your insurance card to wellness@paramount.club \n  \nTri-Immunity Injection \n  \nThe Tri-Immunity Injection offered by Paramount Wellness is a powerful blend of two antioxidants\, Glutathione and Ascorbic Acid and a vital mineral\, Zinc Sulfate. This formula helps strengthen our immune system and our body’s defenses. Glutathione\, one of the antioxidants in the formula\, is an important part of a properly functioning immune system and essential for building and repairing our body tissue. This antioxidant also helps protect the cells in our body from oxidative damage. Ascorbic Acid\, the second antioxidant in the formula\, protects the cells in our body from potential effects of free radicals. Zinc Sulfate\, a mineral\, acts as a boost to our immune system and helps fight inflammation. It can also help prevent symptoms or shorten symptom duration of certain respiratory tract infections. \n  \nThe formula breakdown of the shot: \n1. Glutathione: 200mg/ml \n2. Ascorbic Acid: 200mg/ml \n3. Zinc Sulfate: 2.5mg/ml \n  \nPossible side effects include: Anaphylaxis – Pain at the injection site – Itchiness -Swelling Sensation \n  \nContraindications: (Please let our Chief Medical Officer\, Dr David Mun\, know if any of these applies to you.) \nAllergy to any of the ingredients – Kidney diseases \n  \nIf you experience any swelling\, difficulty breathing or severe pain please seek immediate medical attention. \n  \nThe Flu Vaccine \n  \nThe flu (also known as influenza) is a potentially serious respiratory illness that can lead to hospitalization\, serious complications or even death. The flu mainly spreads through the droplets of the infected person when they cough\, sneeze\, or talk. The cases can range from mild to severe. In the United States\, flu season starts in October\, with cases rising in November and reaching their peak in December-February and declining in March-May. Currently\, everyone 6 months and older are recommended to get the vaccine every season. \n  \nThe flu vaccine\, Flucelvax\, is available at Paramount Wellness and is made from inactivated influenza virus. The Flucelvax vaccine is not recommended for those with egg allergies and those with allergies to its components \n  \nBenefits of Flu Vaccine \n1. Reduce flu illness \n2. Reduce severity of illness \n3. Reduce risk of associated hospitalization \n  \nCommon Side Effects \n1. Headache \n2. Pain at the joint or muscle \n3. Injection site pain and soreness \n4. Diarrhea \n 
URL:https://paramountclub.pgre.com/events-calendar/winter-wellness-combo/
LOCATION:Paramount Wellness\, 1301 Avenue of the Americas\, New York\, NY\, 10019\, United States
CATEGORIES:Wellness
ATTACH;FMTTYPE=image/jpeg:https://paramountclub.pgre.com/wp-content/uploads/2025/11/iStock-679218430-scaled.jpg
END:VEVENT
END:VCALENDAR