BEGIN:VCALENDAR
VERSION:2.0
PRODID:-//Paramount Club - ECPv6.13.2.1//NONSGML v1.0//EN
CALSCALE:GREGORIAN
METHOD:PUBLISH
X-WR-CALNAME:Paramount Club
X-ORIGINAL-URL:https://paramountclub.pgre.com
X-WR-CALDESC:Events for Paramount Club
REFRESH-INTERVAL;VALUE=DURATION:PT1H
X-Robots-Tag:noindex
X-PUBLISHED-TTL:PT1H
BEGIN:VTIMEZONE
TZID:America/New_York
BEGIN:DAYLIGHT
TZOFFSETFROM:-0500
TZOFFSETTO:-0400
TZNAME:EDT
DTSTART:20250309T070000
END:DAYLIGHT
BEGIN:STANDARD
TZOFFSETFROM:-0400
TZOFFSETTO:-0500
TZNAME:EST
DTSTART:20251102T060000
END:STANDARD
END:VTIMEZONE
BEGIN:VEVENT
DTSTART;TZID=America/New_York:20250714T173000
DTEND;TZID=America/New_York:20250714T183000
DTSTAMP:20260424T002423
CREATED:20250103T174030Z
LAST-MODIFIED:20251217T220828Z
UID:10004499-1752514200-1752517800@paramountclub.pgre.com
SUMMARY:Self-Defense Class
DESCRIPTION:Protect & defend yourself and learn how to safely escape dangerous situations. \nSign up for our self-defense class every Monday at 5:30pm\, at Paramount Wellness!
URL:https://paramountclub.pgre.com/events-calendar/self-defense-class/2025-07-14/
LOCATION:Paramount Wellness\, 1301 Avenue of the Americas\, New York\, NY\, 10019\, United States
CATEGORIES:Wellness
ATTACH;FMTTYPE=image/jpeg:https://paramountclub.pgre.com/wp-content/uploads/2025/01/BoxKB-Pic.jpg
ORGANIZER;CN="Paramount Wellness":MAILTO:wellness@paramount.club
END:VEVENT
BEGIN:VEVENT
DTSTART;TZID=America/New_York:20250707T173000
DTEND;TZID=America/New_York:20250707T183000
DTSTAMP:20260424T002423
CREATED:20250103T174030Z
LAST-MODIFIED:20251217T220828Z
UID:10004498-1751909400-1751913000@paramountclub.pgre.com
SUMMARY:Self-Defense Class
DESCRIPTION:Protect & defend yourself and learn how to safely escape dangerous situations. \nSign up for our self-defense class every Monday at 5:30pm\, at Paramount Wellness!
URL:https://paramountclub.pgre.com/events-calendar/self-defense-class/2025-07-07/
LOCATION:Paramount Wellness\, 1301 Avenue of the Americas\, New York\, NY\, 10019\, United States
CATEGORIES:Wellness
ATTACH;FMTTYPE=image/jpeg:https://paramountclub.pgre.com/wp-content/uploads/2025/01/BoxKB-Pic.jpg
ORGANIZER;CN="Paramount Wellness":MAILTO:wellness@paramount.club
END:VEVENT
BEGIN:VEVENT
DTSTART;TZID=America/New_York:20250630T173000
DTEND;TZID=America/New_York:20250630T183000
DTSTAMP:20260424T002423
CREATED:20250103T174030Z
LAST-MODIFIED:20251217T220828Z
UID:10004497-1751304600-1751308200@paramountclub.pgre.com
SUMMARY:Self-Defense Class
DESCRIPTION:Protect & defend yourself and learn how to safely escape dangerous situations. \nSign up for our self-defense class every Monday at 5:30pm\, at Paramount Wellness!
URL:https://paramountclub.pgre.com/events-calendar/self-defense-class/2025-06-30/
LOCATION:Paramount Wellness\, 1301 Avenue of the Americas\, New York\, NY\, 10019\, United States
CATEGORIES:Wellness
ATTACH;FMTTYPE=image/jpeg:https://paramountclub.pgre.com/wp-content/uploads/2025/01/BoxKB-Pic.jpg
ORGANIZER;CN="Paramount Wellness":MAILTO:wellness@paramount.club
END:VEVENT
BEGIN:VEVENT
DTSTART;TZID=America/New_York:20250623T173000
DTEND;TZID=America/New_York:20250623T183000
DTSTAMP:20260424T002423
CREATED:20250103T174030Z
LAST-MODIFIED:20251217T220828Z
UID:10004496-1750699800-1750703400@paramountclub.pgre.com
SUMMARY:Self-Defense Class
DESCRIPTION:Protect & defend yourself and learn how to safely escape dangerous situations. \nSign up for our self-defense class every Monday at 5:30pm\, at Paramount Wellness!
URL:https://paramountclub.pgre.com/events-calendar/self-defense-class/2025-06-23/
LOCATION:Paramount Wellness\, 1301 Avenue of the Americas\, New York\, NY\, 10019\, United States
CATEGORIES:Wellness
ATTACH;FMTTYPE=image/jpeg:https://paramountclub.pgre.com/wp-content/uploads/2025/01/BoxKB-Pic.jpg
ORGANIZER;CN="Paramount Wellness":MAILTO:wellness@paramount.club
END:VEVENT
BEGIN:VEVENT
DTSTART;TZID=America/New_York:20250616T173000
DTEND;TZID=America/New_York:20250616T183000
DTSTAMP:20260424T002423
CREATED:20250103T174030Z
LAST-MODIFIED:20251217T220828Z
UID:10004495-1750095000-1750098600@paramountclub.pgre.com
SUMMARY:Self-Defense Class
DESCRIPTION:Protect & defend yourself and learn how to safely escape dangerous situations. \nSign up for our self-defense class every Monday at 5:30pm\, at Paramount Wellness!
URL:https://paramountclub.pgre.com/events-calendar/self-defense-class/2025-06-16/
LOCATION:Paramount Wellness\, 1301 Avenue of the Americas\, New York\, NY\, 10019\, United States
CATEGORIES:Wellness
ATTACH;FMTTYPE=image/jpeg:https://paramountclub.pgre.com/wp-content/uploads/2025/01/BoxKB-Pic.jpg
ORGANIZER;CN="Paramount Wellness":MAILTO:wellness@paramount.club
END:VEVENT
BEGIN:VEVENT
DTSTART;TZID=America/New_York:20250609T173000
DTEND;TZID=America/New_York:20250609T183000
DTSTAMP:20260424T002423
CREATED:20250103T174030Z
LAST-MODIFIED:20251217T220828Z
UID:10004494-1749490200-1749493800@paramountclub.pgre.com
SUMMARY:Self-Defense Class
DESCRIPTION:Protect & defend yourself and learn how to safely escape dangerous situations. \nSign up for our self-defense class every Monday at 5:30pm\, at Paramount Wellness!
URL:https://paramountclub.pgre.com/events-calendar/self-defense-class/2025-06-09/
LOCATION:Paramount Wellness\, 1301 Avenue of the Americas\, New York\, NY\, 10019\, United States
CATEGORIES:Wellness
ATTACH;FMTTYPE=image/jpeg:https://paramountclub.pgre.com/wp-content/uploads/2025/01/BoxKB-Pic.jpg
ORGANIZER;CN="Paramount Wellness":MAILTO:wellness@paramount.club
END:VEVENT
BEGIN:VEVENT
DTSTART;TZID=America/New_York:20250602T173000
DTEND;TZID=America/New_York:20250602T183000
DTSTAMP:20260424T002423
CREATED:20250103T174030Z
LAST-MODIFIED:20251217T220828Z
UID:10004493-1748885400-1748889000@paramountclub.pgre.com
SUMMARY:Self-Defense Class
DESCRIPTION:Protect & defend yourself and learn how to safely escape dangerous situations. \nSign up for our self-defense class every Monday at 5:30pm\, at Paramount Wellness!
URL:https://paramountclub.pgre.com/events-calendar/self-defense-class/2025-06-02/
LOCATION:Paramount Wellness\, 1301 Avenue of the Americas\, New York\, NY\, 10019\, United States
CATEGORIES:Wellness
ATTACH;FMTTYPE=image/jpeg:https://paramountclub.pgre.com/wp-content/uploads/2025/01/BoxKB-Pic.jpg
ORGANIZER;CN="Paramount Wellness":MAILTO:wellness@paramount.club
END:VEVENT
BEGIN:VEVENT
DTSTART;TZID=America/New_York:20250519T173000
DTEND;TZID=America/New_York:20250519T183000
DTSTAMP:20260424T002423
CREATED:20250103T174030Z
LAST-MODIFIED:20251217T220828Z
UID:10004492-1747675800-1747679400@paramountclub.pgre.com
SUMMARY:Self-Defense Class
DESCRIPTION:Protect & defend yourself and learn how to safely escape dangerous situations. \nSign up for our self-defense class every Monday at 5:30pm\, at Paramount Wellness!
URL:https://paramountclub.pgre.com/events-calendar/self-defense-class/2025-05-19/
LOCATION:Paramount Wellness\, 1301 Avenue of the Americas\, New York\, NY\, 10019\, United States
CATEGORIES:Wellness
ATTACH;FMTTYPE=image/jpeg:https://paramountclub.pgre.com/wp-content/uploads/2025/01/BoxKB-Pic.jpg
ORGANIZER;CN="Paramount Wellness":MAILTO:wellness@paramount.club
END:VEVENT
BEGIN:VEVENT
DTSTART;TZID=America/New_York:20250512T173000
DTEND;TZID=America/New_York:20250512T183000
DTSTAMP:20260424T002423
CREATED:20250103T174030Z
LAST-MODIFIED:20251217T220828Z
UID:10004491-1747071000-1747074600@paramountclub.pgre.com
SUMMARY:Self-Defense Class
DESCRIPTION:Protect & defend yourself and learn how to safely escape dangerous situations. \nSign up for our self-defense class every Monday at 5:30pm\, at Paramount Wellness!
URL:https://paramountclub.pgre.com/events-calendar/self-defense-class/2025-05-12/
LOCATION:Paramount Wellness\, 1301 Avenue of the Americas\, New York\, NY\, 10019\, United States
CATEGORIES:Wellness
ATTACH;FMTTYPE=image/jpeg:https://paramountclub.pgre.com/wp-content/uploads/2025/01/BoxKB-Pic.jpg
ORGANIZER;CN="Paramount Wellness":MAILTO:wellness@paramount.club
END:VEVENT
BEGIN:VEVENT
DTSTART;TZID=America/New_York:20250508T080000
DTEND;TZID=America/New_York:20250508T170000
DTSTAMP:20260424T002423
CREATED:20250508T200802Z
LAST-MODIFIED:20250508T200804Z
UID:10003632-1746691200-1746723600@paramountclub.pgre.com
SUMMARY:Yoga Class
DESCRIPTION:Our Yoga class will combine techniques and methods from various Yoga disciplines into a 50-minute class that will leave you refreshed\, relaxed but invigorated. You will learn to balance the mind\, body and spirit though exercise poses\, meditation and deep breathing. You may also use props to elevate the workout or help support the body. \nSign up for our yoga class every Monday at 1pm\, at Paramount Wellness!
URL:https://paramountclub.pgre.com/events-calendar/yoga-class-2-2/2025-05-08/
LOCATION:Paramount Wellness\, 1301 Avenue of the Americas\, New York\, NY\, 10019\, United States
CATEGORIES:Wellness
ATTACH;FMTTYPE=image/jpeg:https://paramountclub.pgre.com/wp-content/uploads/2025/01/Yoga-Pic.jpg
ORGANIZER;CN="Paramount Wellness":MAILTO:wellness@paramount.club
END:VEVENT
BEGIN:VEVENT
DTSTART;TZID=America/New_York:20250505T173000
DTEND;TZID=America/New_York:20250505T183000
DTSTAMP:20260424T002423
CREATED:20250103T174030Z
LAST-MODIFIED:20251217T220828Z
UID:10004490-1746466200-1746469800@paramountclub.pgre.com
SUMMARY:Self-Defense Class
DESCRIPTION:Protect & defend yourself and learn how to safely escape dangerous situations. \nSign up for our self-defense class every Monday at 5:30pm\, at Paramount Wellness!
URL:https://paramountclub.pgre.com/events-calendar/self-defense-class/2025-05-05/
LOCATION:Paramount Wellness\, 1301 Avenue of the Americas\, New York\, NY\, 10019\, United States
CATEGORIES:Wellness
ATTACH;FMTTYPE=image/jpeg:https://paramountclub.pgre.com/wp-content/uploads/2025/01/BoxKB-Pic.jpg
ORGANIZER;CN="Paramount Wellness":MAILTO:wellness@paramount.club
END:VEVENT
BEGIN:VEVENT
DTSTART;TZID=America/New_York:20250505T130000
DTEND;TZID=America/New_York:20250505T140000
DTSTAMP:20260424T002423
CREATED:20250508T200802Z
LAST-MODIFIED:20250508T200804Z
UID:10000384-1746450000-1746453600@paramountclub.pgre.com
SUMMARY:Yoga Class
DESCRIPTION:Our Yoga class will combine techniques and methods from various Yoga disciplines into a 50-minute class that will leave you refreshed\, relaxed but invigorated. You will learn to balance the mind\, body and spirit though exercise poses\, meditation and deep breathing. You may also use props to elevate the workout or help support the body. \nSign up for our yoga class every Monday at 1pm\, at Paramount Wellness!
URL:https://paramountclub.pgre.com/events-calendar/yoga-class-2-2/2025-05-05/
LOCATION:Paramount Wellness\, 1301 Avenue of the Americas\, New York\, NY\, 10019\, United States
CATEGORIES:Wellness
ATTACH;FMTTYPE=image/jpeg:https://paramountclub.pgre.com/wp-content/uploads/2025/01/Yoga-Pic.jpg
ORGANIZER;CN="Paramount Wellness":MAILTO:wellness@paramount.club
END:VEVENT
BEGIN:VEVENT
DTSTART;TZID=America/New_York:20250428T173000
DTEND;TZID=America/New_York:20250428T183000
DTSTAMP:20260424T002423
CREATED:20250103T174030Z
LAST-MODIFIED:20251217T220828Z
UID:10004489-1745861400-1745865000@paramountclub.pgre.com
SUMMARY:Self-Defense Class
DESCRIPTION:Protect & defend yourself and learn how to safely escape dangerous situations. \nSign up for our self-defense class every Monday at 5:30pm\, at Paramount Wellness!
URL:https://paramountclub.pgre.com/events-calendar/self-defense-class/2025-04-28/
LOCATION:Paramount Wellness\, 1301 Avenue of the Americas\, New York\, NY\, 10019\, United States
CATEGORIES:Wellness
ATTACH;FMTTYPE=image/jpeg:https://paramountclub.pgre.com/wp-content/uploads/2025/01/BoxKB-Pic.jpg
ORGANIZER;CN="Paramount Wellness":MAILTO:wellness@paramount.club
END:VEVENT
BEGIN:VEVENT
DTSTART;TZID=America/New_York:20250428T130000
DTEND;TZID=America/New_York:20250428T140000
DTSTAMP:20260424T002423
CREATED:20250219T222225Z
LAST-MODIFIED:20250411T195450Z
UID:10000383-1745845200-1745848800@paramountclub.pgre.com
SUMMARY:Yoga Class
DESCRIPTION:Our Yoga class will combine techniques and methods from various Yoga disciplines into a 50-minute class that will leave you refreshed\, relaxed but invigorated. You will learn to balance the mind\, body and spirit though exercise poses\, meditation and deep breathing. You may also use props to elevate the workout or help support the body. \nSign up for our yoga class every Monday at 1pm\, at Paramount Wellness!
URL:https://paramountclub.pgre.com/events-calendar/yoga-class-2/2025-04-28/
LOCATION:Paramount Wellness\, 1301 Avenue of the Americas\, New York\, NY\, 10019\, United States
CATEGORIES:Wellness
ATTACH;FMTTYPE=image/jpeg:https://paramountclub.pgre.com/wp-content/uploads/2025/01/Yoga-Pic.jpg
ORGANIZER;CN="Paramount Wellness":MAILTO:wellness@paramount.club
END:VEVENT
BEGIN:VEVENT
DTSTART;TZID=America/New_York:20250421T173000
DTEND;TZID=America/New_York:20250421T183000
DTSTAMP:20260424T002423
CREATED:20250103T174030Z
LAST-MODIFIED:20251217T220828Z
UID:10004488-1745256600-1745260200@paramountclub.pgre.com
SUMMARY:Self-Defense Class
DESCRIPTION:Protect & defend yourself and learn how to safely escape dangerous situations. \nSign up for our self-defense class every Monday at 5:30pm\, at Paramount Wellness!
URL:https://paramountclub.pgre.com/events-calendar/self-defense-class/2025-04-21/
LOCATION:Paramount Wellness\, 1301 Avenue of the Americas\, New York\, NY\, 10019\, United States
CATEGORIES:Wellness
ATTACH;FMTTYPE=image/jpeg:https://paramountclub.pgre.com/wp-content/uploads/2025/01/BoxKB-Pic.jpg
ORGANIZER;CN="Paramount Wellness":MAILTO:wellness@paramount.club
END:VEVENT
BEGIN:VEVENT
DTSTART;TZID=America/New_York:20250421T130000
DTEND;TZID=America/New_York:20250421T140000
DTSTAMP:20260424T002423
CREATED:20250219T222225Z
LAST-MODIFIED:20250411T195450Z
UID:10000382-1745240400-1745244000@paramountclub.pgre.com
SUMMARY:Yoga Class
DESCRIPTION:Our Yoga class will combine techniques and methods from various Yoga disciplines into a 50-minute class that will leave you refreshed\, relaxed but invigorated. You will learn to balance the mind\, body and spirit though exercise poses\, meditation and deep breathing. You may also use props to elevate the workout or help support the body. \nSign up for our yoga class every Monday at 1pm\, at Paramount Wellness!
URL:https://paramountclub.pgre.com/events-calendar/yoga-class-2/2025-04-21/
LOCATION:Paramount Wellness\, 1301 Avenue of the Americas\, New York\, NY\, 10019\, United States
CATEGORIES:Wellness
ATTACH;FMTTYPE=image/jpeg:https://paramountclub.pgre.com/wp-content/uploads/2025/01/Yoga-Pic.jpg
ORGANIZER;CN="Paramount Wellness":MAILTO:wellness@paramount.club
END:VEVENT
BEGIN:VEVENT
DTSTART;TZID=America/New_York:20250414T173000
DTEND;TZID=America/New_York:20250414T183000
DTSTAMP:20260424T002423
CREATED:20250103T174030Z
LAST-MODIFIED:20251217T220828Z
UID:10004487-1744651800-1744655400@paramountclub.pgre.com
SUMMARY:Self-Defense Class
DESCRIPTION:Protect & defend yourself and learn how to safely escape dangerous situations. \nSign up for our self-defense class every Monday at 5:30pm\, at Paramount Wellness!
URL:https://paramountclub.pgre.com/events-calendar/self-defense-class/2025-04-14/
LOCATION:Paramount Wellness\, 1301 Avenue of the Americas\, New York\, NY\, 10019\, United States
CATEGORIES:Wellness
ATTACH;FMTTYPE=image/jpeg:https://paramountclub.pgre.com/wp-content/uploads/2025/01/BoxKB-Pic.jpg
ORGANIZER;CN="Paramount Wellness":MAILTO:wellness@paramount.club
END:VEVENT
BEGIN:VEVENT
DTSTART;TZID=America/New_York:20250414T130000
DTEND;TZID=America/New_York:20250414T140000
DTSTAMP:20260424T002423
CREATED:20250219T222225Z
LAST-MODIFIED:20250411T195450Z
UID:10000381-1744635600-1744639200@paramountclub.pgre.com
SUMMARY:Yoga Class
DESCRIPTION:Our Yoga class will combine techniques and methods from various Yoga disciplines into a 50-minute class that will leave you refreshed\, relaxed but invigorated. You will learn to balance the mind\, body and spirit though exercise poses\, meditation and deep breathing. You may also use props to elevate the workout or help support the body. \nSign up for our yoga class every Monday at 1pm\, at Paramount Wellness!
URL:https://paramountclub.pgre.com/events-calendar/yoga-class-2/2025-04-14/
LOCATION:Paramount Wellness\, 1301 Avenue of the Americas\, New York\, NY\, 10019\, United States
CATEGORIES:Wellness
ATTACH;FMTTYPE=image/jpeg:https://paramountclub.pgre.com/wp-content/uploads/2025/01/Yoga-Pic.jpg
ORGANIZER;CN="Paramount Wellness":MAILTO:wellness@paramount.club
END:VEVENT
BEGIN:VEVENT
DTSTART;TZID=America/New_York:20250407T173000
DTEND;TZID=America/New_York:20250407T183000
DTSTAMP:20260424T002423
CREATED:20250103T174030Z
LAST-MODIFIED:20251217T220828Z
UID:10004486-1744047000-1744050600@paramountclub.pgre.com
SUMMARY:Self-Defense Class
DESCRIPTION:Protect & defend yourself and learn how to safely escape dangerous situations. \nSign up for our self-defense class every Monday at 5:30pm\, at Paramount Wellness!
URL:https://paramountclub.pgre.com/events-calendar/self-defense-class/2025-04-07/
LOCATION:Paramount Wellness\, 1301 Avenue of the Americas\, New York\, NY\, 10019\, United States
CATEGORIES:Wellness
ATTACH;FMTTYPE=image/jpeg:https://paramountclub.pgre.com/wp-content/uploads/2025/01/BoxKB-Pic.jpg
ORGANIZER;CN="Paramount Wellness":MAILTO:wellness@paramount.club
END:VEVENT
BEGIN:VEVENT
DTSTART;TZID=America/New_York:20250407T130000
DTEND;TZID=America/New_York:20250407T140000
DTSTAMP:20260424T002423
CREATED:20250219T222225Z
LAST-MODIFIED:20250411T195450Z
UID:10000380-1744030800-1744034400@paramountclub.pgre.com
SUMMARY:Yoga Class
DESCRIPTION:Our Yoga class will combine techniques and methods from various Yoga disciplines into a 50-minute class that will leave you refreshed\, relaxed but invigorated. You will learn to balance the mind\, body and spirit though exercise poses\, meditation and deep breathing. You may also use props to elevate the workout or help support the body. \nSign up for our yoga class every Monday at 1pm\, at Paramount Wellness!
URL:https://paramountclub.pgre.com/events-calendar/yoga-class-2/2025-04-07/
LOCATION:Paramount Wellness\, 1301 Avenue of the Americas\, New York\, NY\, 10019\, United States
CATEGORIES:Wellness
ATTACH;FMTTYPE=image/jpeg:https://paramountclub.pgre.com/wp-content/uploads/2025/01/Yoga-Pic.jpg
ORGANIZER;CN="Paramount Wellness":MAILTO:wellness@paramount.club
END:VEVENT
BEGIN:VEVENT
DTSTART;TZID=America/New_York:20250331T173000
DTEND;TZID=America/New_York:20250331T183000
DTSTAMP:20260424T002423
CREATED:20250103T174030Z
LAST-MODIFIED:20251217T220828Z
UID:10004485-1743442200-1743445800@paramountclub.pgre.com
SUMMARY:Self-Defense Class
DESCRIPTION:Protect & defend yourself and learn how to safely escape dangerous situations. \nSign up for our self-defense class every Monday at 5:30pm\, at Paramount Wellness!
URL:https://paramountclub.pgre.com/events-calendar/self-defense-class/2025-03-31/
LOCATION:Paramount Wellness\, 1301 Avenue of the Americas\, New York\, NY\, 10019\, United States
CATEGORIES:Wellness
ATTACH;FMTTYPE=image/jpeg:https://paramountclub.pgre.com/wp-content/uploads/2025/01/BoxKB-Pic.jpg
ORGANIZER;CN="Paramount Wellness":MAILTO:wellness@paramount.club
END:VEVENT
BEGIN:VEVENT
DTSTART;TZID=America/New_York:20250331T130000
DTEND;TZID=America/New_York:20250331T140000
DTSTAMP:20260424T002423
CREATED:20250219T222225Z
LAST-MODIFIED:20250411T195450Z
UID:10000379-1743426000-1743429600@paramountclub.pgre.com
SUMMARY:Yoga Class
DESCRIPTION:Our Yoga class will combine techniques and methods from various Yoga disciplines into a 50-minute class that will leave you refreshed\, relaxed but invigorated. You will learn to balance the mind\, body and spirit though exercise poses\, meditation and deep breathing. You may also use props to elevate the workout or help support the body. \nSign up for our yoga class every Monday at 1pm\, at Paramount Wellness!
URL:https://paramountclub.pgre.com/events-calendar/yoga-class-2/2025-03-31/
LOCATION:Paramount Wellness\, 1301 Avenue of the Americas\, New York\, NY\, 10019\, United States
CATEGORIES:Wellness
ATTACH;FMTTYPE=image/jpeg:https://paramountclub.pgre.com/wp-content/uploads/2025/01/Yoga-Pic.jpg
ORGANIZER;CN="Paramount Wellness":MAILTO:wellness@paramount.club
END:VEVENT
BEGIN:VEVENT
DTSTART;TZID=America/New_York:20250324T173000
DTEND;TZID=America/New_York:20250324T183000
DTSTAMP:20260424T002423
CREATED:20250103T174030Z
LAST-MODIFIED:20251217T220828Z
UID:10004484-1742837400-1742841000@paramountclub.pgre.com
SUMMARY:Self-Defense Class
DESCRIPTION:Protect & defend yourself and learn how to safely escape dangerous situations. \nSign up for our self-defense class every Monday at 5:30pm\, at Paramount Wellness!
URL:https://paramountclub.pgre.com/events-calendar/self-defense-class/2025-03-24/
LOCATION:Paramount Wellness\, 1301 Avenue of the Americas\, New York\, NY\, 10019\, United States
CATEGORIES:Wellness
ATTACH;FMTTYPE=image/jpeg:https://paramountclub.pgre.com/wp-content/uploads/2025/01/BoxKB-Pic.jpg
ORGANIZER;CN="Paramount Wellness":MAILTO:wellness@paramount.club
END:VEVENT
BEGIN:VEVENT
DTSTART;TZID=America/New_York:20250324T130000
DTEND;TZID=America/New_York:20250324T140000
DTSTAMP:20260424T002423
CREATED:20250219T222225Z
LAST-MODIFIED:20250411T195450Z
UID:10000378-1742821200-1742824800@paramountclub.pgre.com
SUMMARY:Yoga Class
DESCRIPTION:Our Yoga class will combine techniques and methods from various Yoga disciplines into a 50-minute class that will leave you refreshed\, relaxed but invigorated. You will learn to balance the mind\, body and spirit though exercise poses\, meditation and deep breathing. You may also use props to elevate the workout or help support the body. \nSign up for our yoga class every Monday at 1pm\, at Paramount Wellness!
URL:https://paramountclub.pgre.com/events-calendar/yoga-class-2/2025-03-24/
LOCATION:Paramount Wellness\, 1301 Avenue of the Americas\, New York\, NY\, 10019\, United States
CATEGORIES:Wellness
ATTACH;FMTTYPE=image/jpeg:https://paramountclub.pgre.com/wp-content/uploads/2025/01/Yoga-Pic.jpg
ORGANIZER;CN="Paramount Wellness":MAILTO:wellness@paramount.club
END:VEVENT
BEGIN:VEVENT
DTSTART;TZID=America/New_York:20250317T173000
DTEND;TZID=America/New_York:20250317T183000
DTSTAMP:20260424T002423
CREATED:20250103T174030Z
LAST-MODIFIED:20251217T220828Z
UID:10004483-1742232600-1742236200@paramountclub.pgre.com
SUMMARY:Self-Defense Class
DESCRIPTION:Protect & defend yourself and learn how to safely escape dangerous situations. \nSign up for our self-defense class every Monday at 5:30pm\, at Paramount Wellness!
URL:https://paramountclub.pgre.com/events-calendar/self-defense-class/2025-03-17/
LOCATION:Paramount Wellness\, 1301 Avenue of the Americas\, New York\, NY\, 10019\, United States
CATEGORIES:Wellness
ATTACH;FMTTYPE=image/jpeg:https://paramountclub.pgre.com/wp-content/uploads/2025/01/BoxKB-Pic.jpg
ORGANIZER;CN="Paramount Wellness":MAILTO:wellness@paramount.club
END:VEVENT
BEGIN:VEVENT
DTSTART;TZID=America/New_York:20250317T130000
DTEND;TZID=America/New_York:20250317T140000
DTSTAMP:20260424T002423
CREATED:20250219T222225Z
LAST-MODIFIED:20250411T195450Z
UID:10000377-1742216400-1742220000@paramountclub.pgre.com
SUMMARY:Yoga Class
DESCRIPTION:Our Yoga class will combine techniques and methods from various Yoga disciplines into a 50-minute class that will leave you refreshed\, relaxed but invigorated. You will learn to balance the mind\, body and spirit though exercise poses\, meditation and deep breathing. You may also use props to elevate the workout or help support the body. \nSign up for our yoga class every Monday at 1pm\, at Paramount Wellness!
URL:https://paramountclub.pgre.com/events-calendar/yoga-class-2/2025-03-17/
LOCATION:Paramount Wellness\, 1301 Avenue of the Americas\, New York\, NY\, 10019\, United States
CATEGORIES:Wellness
ATTACH;FMTTYPE=image/jpeg:https://paramountclub.pgre.com/wp-content/uploads/2025/01/Yoga-Pic.jpg
ORGANIZER;CN="Paramount Wellness":MAILTO:wellness@paramount.club
END:VEVENT
BEGIN:VEVENT
DTSTART;TZID=America/New_York:20250310T173000
DTEND;TZID=America/New_York:20250310T183000
DTSTAMP:20260424T002423
CREATED:20250103T174030Z
LAST-MODIFIED:20251217T220828Z
UID:10004482-1741627800-1741631400@paramountclub.pgre.com
SUMMARY:Self-Defense Class
DESCRIPTION:Protect & defend yourself and learn how to safely escape dangerous situations. \nSign up for our self-defense class every Monday at 5:30pm\, at Paramount Wellness!
URL:https://paramountclub.pgre.com/events-calendar/self-defense-class/2025-03-10/
LOCATION:Paramount Wellness\, 1301 Avenue of the Americas\, New York\, NY\, 10019\, United States
CATEGORIES:Wellness
ATTACH;FMTTYPE=image/jpeg:https://paramountclub.pgre.com/wp-content/uploads/2025/01/BoxKB-Pic.jpg
ORGANIZER;CN="Paramount Wellness":MAILTO:wellness@paramount.club
END:VEVENT
BEGIN:VEVENT
DTSTART;TZID=America/New_York:20250310T130000
DTEND;TZID=America/New_York:20250310T140000
DTSTAMP:20260424T002423
CREATED:20250219T222225Z
LAST-MODIFIED:20250411T195450Z
UID:10000376-1741611600-1741615200@paramountclub.pgre.com
SUMMARY:Yoga Class
DESCRIPTION:Our Yoga class will combine techniques and methods from various Yoga disciplines into a 50-minute class that will leave you refreshed\, relaxed but invigorated. You will learn to balance the mind\, body and spirit though exercise poses\, meditation and deep breathing. You may also use props to elevate the workout or help support the body. \nSign up for our yoga class every Monday at 1pm\, at Paramount Wellness!
URL:https://paramountclub.pgre.com/events-calendar/yoga-class-2/2025-03-10/
LOCATION:Paramount Wellness\, 1301 Avenue of the Americas\, New York\, NY\, 10019\, United States
CATEGORIES:Wellness
ATTACH;FMTTYPE=image/jpeg:https://paramountclub.pgre.com/wp-content/uploads/2025/01/Yoga-Pic.jpg
ORGANIZER;CN="Paramount Wellness":MAILTO:wellness@paramount.club
END:VEVENT
BEGIN:VEVENT
DTSTART;TZID=America/New_York:20250303T173000
DTEND;TZID=America/New_York:20250303T183000
DTSTAMP:20260424T002423
CREATED:20250103T174030Z
LAST-MODIFIED:20251217T220828Z
UID:10004481-1741023000-1741026600@paramountclub.pgre.com
SUMMARY:Self-Defense Class
DESCRIPTION:Protect & defend yourself and learn how to safely escape dangerous situations. \nSign up for our self-defense class every Monday at 5:30pm\, at Paramount Wellness!
URL:https://paramountclub.pgre.com/events-calendar/self-defense-class/2025-03-03/
LOCATION:Paramount Wellness\, 1301 Avenue of the Americas\, New York\, NY\, 10019\, United States
CATEGORIES:Wellness
ATTACH;FMTTYPE=image/jpeg:https://paramountclub.pgre.com/wp-content/uploads/2025/01/BoxKB-Pic.jpg
ORGANIZER;CN="Paramount Wellness":MAILTO:wellness@paramount.club
END:VEVENT
BEGIN:VEVENT
DTSTART;TZID=America/New_York:20250303T130000
DTEND;TZID=America/New_York:20250303T140000
DTSTAMP:20260424T002423
CREATED:20250219T222225Z
LAST-MODIFIED:20250411T195450Z
UID:10000375-1741006800-1741010400@paramountclub.pgre.com
SUMMARY:Yoga Class
DESCRIPTION:Our Yoga class will combine techniques and methods from various Yoga disciplines into a 50-minute class that will leave you refreshed\, relaxed but invigorated. You will learn to balance the mind\, body and spirit though exercise poses\, meditation and deep breathing. You may also use props to elevate the workout or help support the body. \nSign up for our yoga class every Monday at 1pm\, at Paramount Wellness!
URL:https://paramountclub.pgre.com/events-calendar/yoga-class-2/2025-03-03/
LOCATION:Paramount Wellness\, 1301 Avenue of the Americas\, New York\, NY\, 10019\, United States
CATEGORIES:Wellness
ATTACH;FMTTYPE=image/jpeg:https://paramountclub.pgre.com/wp-content/uploads/2025/01/Yoga-Pic.jpg
ORGANIZER;CN="Paramount Wellness":MAILTO:wellness@paramount.club
END:VEVENT
END:VCALENDAR