BEGIN:VCALENDAR
VERSION:2.0
PRODID:-//Paramount Club - ECPv6.13.2.1//NONSGML v1.0//EN
CALSCALE:GREGORIAN
METHOD:PUBLISH
X-ORIGINAL-URL:https://paramountclub.pgre.com
X-WR-CALDESC:Events for Paramount Club
REFRESH-INTERVAL;VALUE=DURATION:PT1H
X-Robots-Tag:noindex
X-PUBLISHED-TTL:PT1H
BEGIN:VTIMEZONE
TZID:America/New_York
BEGIN:DAYLIGHT
TZOFFSETFROM:-0500
TZOFFSETTO:-0400
TZNAME:EDT
DTSTART:20270314T070000
END:DAYLIGHT
BEGIN:STANDARD
TZOFFSETFROM:-0400
TZOFFSETTO:-0500
TZNAME:EST
DTSTART:20271107T060000
END:STANDARD
BEGIN:DAYLIGHT
TZOFFSETFROM:-0500
TZOFFSETTO:-0400
TZNAME:EDT
DTSTART:20280312T070000
END:DAYLIGHT
BEGIN:STANDARD
TZOFFSETFROM:-0400
TZOFFSETTO:-0500
TZNAME:EST
DTSTART:20281105T060000
END:STANDARD
END:VTIMEZONE
BEGIN:VEVENT
DTSTART;TZID=America/New_York:20270920T180000
DTEND;TZID=America/New_York:20270920T190000
DTSTAMP:20260424T034513
CREATED:20260220T174858Z
LAST-MODIFIED:20260220T175013Z
UID:10004868-1821463200-1821466800@paramountclub.pgre.com
SUMMARY:Self-Defense Class
DESCRIPTION:Protect & defend yourself and learn how to safely escape dangerous situations. \nSign up for our self-defense class every Monday at 6:00pm\, at Paramount Wellness!
URL:https://paramountclub.pgre.com/events-calendar/self-defense-class-2-2-2/2027-09-20/
LOCATION:Paramount Wellness\, 1301 Avenue of the Americas\, New York\, NY\, 10019\, United States
CATEGORIES:Wellness
ATTACH;FMTTYPE=image/jpeg:https://paramountclub.pgre.com/wp-content/uploads/2025/01/BoxKB-Pic.jpg
ORGANIZER;CN="Paramount Wellness":MAILTO:wellness@paramount.club
END:VEVENT
BEGIN:VEVENT
DTSTART;TZID=America/New_York:20270927T180000
DTEND;TZID=America/New_York:20270927T190000
DTSTAMP:20260424T034513
CREATED:20260220T174858Z
LAST-MODIFIED:20260220T175013Z
UID:10004869-1822068000-1822071600@paramountclub.pgre.com
SUMMARY:Self-Defense Class
DESCRIPTION:Protect & defend yourself and learn how to safely escape dangerous situations. \nSign up for our self-defense class every Monday at 6:00pm\, at Paramount Wellness!
URL:https://paramountclub.pgre.com/events-calendar/self-defense-class-2-2-2/2027-09-27/
LOCATION:Paramount Wellness\, 1301 Avenue of the Americas\, New York\, NY\, 10019\, United States
CATEGORIES:Wellness
ATTACH;FMTTYPE=image/jpeg:https://paramountclub.pgre.com/wp-content/uploads/2025/01/BoxKB-Pic.jpg
ORGANIZER;CN="Paramount Wellness":MAILTO:wellness@paramount.club
END:VEVENT
BEGIN:VEVENT
DTSTART;TZID=America/New_York:20271004T180000
DTEND;TZID=America/New_York:20271004T190000
DTSTAMP:20260424T034513
CREATED:20260220T174858Z
LAST-MODIFIED:20260220T175013Z
UID:10004870-1822672800-1822676400@paramountclub.pgre.com
SUMMARY:Self-Defense Class
DESCRIPTION:Protect & defend yourself and learn how to safely escape dangerous situations. \nSign up for our self-defense class every Monday at 6:00pm\, at Paramount Wellness!
URL:https://paramountclub.pgre.com/events-calendar/self-defense-class-2-2-2/2027-10-04/
LOCATION:Paramount Wellness\, 1301 Avenue of the Americas\, New York\, NY\, 10019\, United States
CATEGORIES:Wellness
ATTACH;FMTTYPE=image/jpeg:https://paramountclub.pgre.com/wp-content/uploads/2025/01/BoxKB-Pic.jpg
ORGANIZER;CN="Paramount Wellness":MAILTO:wellness@paramount.club
END:VEVENT
BEGIN:VEVENT
DTSTART;TZID=America/New_York:20271011T180000
DTEND;TZID=America/New_York:20271011T190000
DTSTAMP:20260424T034513
CREATED:20260220T174858Z
LAST-MODIFIED:20260220T175013Z
UID:10004871-1823277600-1823281200@paramountclub.pgre.com
SUMMARY:Self-Defense Class
DESCRIPTION:Protect & defend yourself and learn how to safely escape dangerous situations. \nSign up for our self-defense class every Monday at 6:00pm\, at Paramount Wellness!
URL:https://paramountclub.pgre.com/events-calendar/self-defense-class-2-2-2/2027-10-11/
LOCATION:Paramount Wellness\, 1301 Avenue of the Americas\, New York\, NY\, 10019\, United States
CATEGORIES:Wellness
ATTACH;FMTTYPE=image/jpeg:https://paramountclub.pgre.com/wp-content/uploads/2025/01/BoxKB-Pic.jpg
ORGANIZER;CN="Paramount Wellness":MAILTO:wellness@paramount.club
END:VEVENT
BEGIN:VEVENT
DTSTART;TZID=America/New_York:20271018T180000
DTEND;TZID=America/New_York:20271018T190000
DTSTAMP:20260424T034513
CREATED:20260220T174858Z
LAST-MODIFIED:20260220T175013Z
UID:10004872-1823882400-1823886000@paramountclub.pgre.com
SUMMARY:Self-Defense Class
DESCRIPTION:Protect & defend yourself and learn how to safely escape dangerous situations. \nSign up for our self-defense class every Monday at 6:00pm\, at Paramount Wellness!
URL:https://paramountclub.pgre.com/events-calendar/self-defense-class-2-2-2/2027-10-18/
LOCATION:Paramount Wellness\, 1301 Avenue of the Americas\, New York\, NY\, 10019\, United States
CATEGORIES:Wellness
ATTACH;FMTTYPE=image/jpeg:https://paramountclub.pgre.com/wp-content/uploads/2025/01/BoxKB-Pic.jpg
ORGANIZER;CN="Paramount Wellness":MAILTO:wellness@paramount.club
END:VEVENT
BEGIN:VEVENT
DTSTART;TZID=America/New_York:20271025T180000
DTEND;TZID=America/New_York:20271025T190000
DTSTAMP:20260424T034513
CREATED:20260220T174858Z
LAST-MODIFIED:20260220T175013Z
UID:10004873-1824487200-1824490800@paramountclub.pgre.com
SUMMARY:Self-Defense Class
DESCRIPTION:Protect & defend yourself and learn how to safely escape dangerous situations. \nSign up for our self-defense class every Monday at 6:00pm\, at Paramount Wellness!
URL:https://paramountclub.pgre.com/events-calendar/self-defense-class-2-2-2/2027-10-25/
LOCATION:Paramount Wellness\, 1301 Avenue of the Americas\, New York\, NY\, 10019\, United States
CATEGORIES:Wellness
ATTACH;FMTTYPE=image/jpeg:https://paramountclub.pgre.com/wp-content/uploads/2025/01/BoxKB-Pic.jpg
ORGANIZER;CN="Paramount Wellness":MAILTO:wellness@paramount.club
END:VEVENT
BEGIN:VEVENT
DTSTART;TZID=America/New_York:20271101T180000
DTEND;TZID=America/New_York:20271101T190000
DTSTAMP:20260424T034513
CREATED:20260220T174858Z
LAST-MODIFIED:20260220T175013Z
UID:10004874-1825092000-1825095600@paramountclub.pgre.com
SUMMARY:Self-Defense Class
DESCRIPTION:Protect & defend yourself and learn how to safely escape dangerous situations. \nSign up for our self-defense class every Monday at 6:00pm\, at Paramount Wellness!
URL:https://paramountclub.pgre.com/events-calendar/self-defense-class-2-2-2/2027-11-01/
LOCATION:Paramount Wellness\, 1301 Avenue of the Americas\, New York\, NY\, 10019\, United States
CATEGORIES:Wellness
ATTACH;FMTTYPE=image/jpeg:https://paramountclub.pgre.com/wp-content/uploads/2025/01/BoxKB-Pic.jpg
ORGANIZER;CN="Paramount Wellness":MAILTO:wellness@paramount.club
END:VEVENT
BEGIN:VEVENT
DTSTART;TZID=America/New_York:20271108T180000
DTEND;TZID=America/New_York:20271108T190000
DTSTAMP:20260424T034513
CREATED:20260220T174858Z
LAST-MODIFIED:20260220T175013Z
UID:10004875-1825696800-1825700400@paramountclub.pgre.com
SUMMARY:Self-Defense Class
DESCRIPTION:Protect & defend yourself and learn how to safely escape dangerous situations. \nSign up for our self-defense class every Monday at 6:00pm\, at Paramount Wellness!
URL:https://paramountclub.pgre.com/events-calendar/self-defense-class-2-2-2/2027-11-08/
LOCATION:Paramount Wellness\, 1301 Avenue of the Americas\, New York\, NY\, 10019\, United States
CATEGORIES:Wellness
ATTACH;FMTTYPE=image/jpeg:https://paramountclub.pgre.com/wp-content/uploads/2025/01/BoxKB-Pic.jpg
ORGANIZER;CN="Paramount Wellness":MAILTO:wellness@paramount.club
END:VEVENT
BEGIN:VEVENT
DTSTART;TZID=America/New_York:20271115T180000
DTEND;TZID=America/New_York:20271115T190000
DTSTAMP:20260424T034513
CREATED:20260220T174858Z
LAST-MODIFIED:20260220T175013Z
UID:10004876-1826301600-1826305200@paramountclub.pgre.com
SUMMARY:Self-Defense Class
DESCRIPTION:Protect & defend yourself and learn how to safely escape dangerous situations. \nSign up for our self-defense class every Monday at 6:00pm\, at Paramount Wellness!
URL:https://paramountclub.pgre.com/events-calendar/self-defense-class-2-2-2/2027-11-15/
LOCATION:Paramount Wellness\, 1301 Avenue of the Americas\, New York\, NY\, 10019\, United States
CATEGORIES:Wellness
ATTACH;FMTTYPE=image/jpeg:https://paramountclub.pgre.com/wp-content/uploads/2025/01/BoxKB-Pic.jpg
ORGANIZER;CN="Paramount Wellness":MAILTO:wellness@paramount.club
END:VEVENT
BEGIN:VEVENT
DTSTART;TZID=America/New_York:20271122T180000
DTEND;TZID=America/New_York:20271122T190000
DTSTAMP:20260424T034513
CREATED:20260220T174858Z
LAST-MODIFIED:20260220T175013Z
UID:10004877-1826906400-1826910000@paramountclub.pgre.com
SUMMARY:Self-Defense Class
DESCRIPTION:Protect & defend yourself and learn how to safely escape dangerous situations. \nSign up for our self-defense class every Monday at 6:00pm\, at Paramount Wellness!
URL:https://paramountclub.pgre.com/events-calendar/self-defense-class-2-2-2/2027-11-22/
LOCATION:Paramount Wellness\, 1301 Avenue of the Americas\, New York\, NY\, 10019\, United States
CATEGORIES:Wellness
ATTACH;FMTTYPE=image/jpeg:https://paramountclub.pgre.com/wp-content/uploads/2025/01/BoxKB-Pic.jpg
ORGANIZER;CN="Paramount Wellness":MAILTO:wellness@paramount.club
END:VEVENT
BEGIN:VEVENT
DTSTART;TZID=America/New_York:20271129T180000
DTEND;TZID=America/New_York:20271129T190000
DTSTAMP:20260424T034513
CREATED:20260220T174858Z
LAST-MODIFIED:20260220T175013Z
UID:10004878-1827511200-1827514800@paramountclub.pgre.com
SUMMARY:Self-Defense Class
DESCRIPTION:Protect & defend yourself and learn how to safely escape dangerous situations. \nSign up for our self-defense class every Monday at 6:00pm\, at Paramount Wellness!
URL:https://paramountclub.pgre.com/events-calendar/self-defense-class-2-2-2/2027-11-29/
LOCATION:Paramount Wellness\, 1301 Avenue of the Americas\, New York\, NY\, 10019\, United States
CATEGORIES:Wellness
ATTACH;FMTTYPE=image/jpeg:https://paramountclub.pgre.com/wp-content/uploads/2025/01/BoxKB-Pic.jpg
ORGANIZER;CN="Paramount Wellness":MAILTO:wellness@paramount.club
END:VEVENT
BEGIN:VEVENT
DTSTART;TZID=America/New_York:20271206T180000
DTEND;TZID=America/New_York:20271206T190000
DTSTAMP:20260424T034513
CREATED:20260220T174858Z
LAST-MODIFIED:20260220T175013Z
UID:10004879-1828116000-1828119600@paramountclub.pgre.com
SUMMARY:Self-Defense Class
DESCRIPTION:Protect & defend yourself and learn how to safely escape dangerous situations. \nSign up for our self-defense class every Monday at 6:00pm\, at Paramount Wellness!
URL:https://paramountclub.pgre.com/events-calendar/self-defense-class-2-2-2/2027-12-06/
LOCATION:Paramount Wellness\, 1301 Avenue of the Americas\, New York\, NY\, 10019\, United States
CATEGORIES:Wellness
ATTACH;FMTTYPE=image/jpeg:https://paramountclub.pgre.com/wp-content/uploads/2025/01/BoxKB-Pic.jpg
ORGANIZER;CN="Paramount Wellness":MAILTO:wellness@paramount.club
END:VEVENT
BEGIN:VEVENT
DTSTART;TZID=America/New_York:20271213T180000
DTEND;TZID=America/New_York:20271213T190000
DTSTAMP:20260424T034513
CREATED:20260220T174858Z
LAST-MODIFIED:20260220T175013Z
UID:10004880-1828720800-1828724400@paramountclub.pgre.com
SUMMARY:Self-Defense Class
DESCRIPTION:Protect & defend yourself and learn how to safely escape dangerous situations. \nSign up for our self-defense class every Monday at 6:00pm\, at Paramount Wellness!
URL:https://paramountclub.pgre.com/events-calendar/self-defense-class-2-2-2/2027-12-13/
LOCATION:Paramount Wellness\, 1301 Avenue of the Americas\, New York\, NY\, 10019\, United States
CATEGORIES:Wellness
ATTACH;FMTTYPE=image/jpeg:https://paramountclub.pgre.com/wp-content/uploads/2025/01/BoxKB-Pic.jpg
ORGANIZER;CN="Paramount Wellness":MAILTO:wellness@paramount.club
END:VEVENT
BEGIN:VEVENT
DTSTART;TZID=America/New_York:20271220T180000
DTEND;TZID=America/New_York:20271220T190000
DTSTAMP:20260424T034513
CREATED:20260220T174858Z
LAST-MODIFIED:20260220T175013Z
UID:10004881-1829325600-1829329200@paramountclub.pgre.com
SUMMARY:Self-Defense Class
DESCRIPTION:Protect & defend yourself and learn how to safely escape dangerous situations. \nSign up for our self-defense class every Monday at 6:00pm\, at Paramount Wellness!
URL:https://paramountclub.pgre.com/events-calendar/self-defense-class-2-2-2/2027-12-20/
LOCATION:Paramount Wellness\, 1301 Avenue of the Americas\, New York\, NY\, 10019\, United States
CATEGORIES:Wellness
ATTACH;FMTTYPE=image/jpeg:https://paramountclub.pgre.com/wp-content/uploads/2025/01/BoxKB-Pic.jpg
ORGANIZER;CN="Paramount Wellness":MAILTO:wellness@paramount.club
END:VEVENT
BEGIN:VEVENT
DTSTART;TZID=America/New_York:20271227T180000
DTEND;TZID=America/New_York:20271227T190000
DTSTAMP:20260424T034513
CREATED:20260220T174858Z
LAST-MODIFIED:20260220T175013Z
UID:10004882-1829930400-1829934000@paramountclub.pgre.com
SUMMARY:Self-Defense Class
DESCRIPTION:Protect & defend yourself and learn how to safely escape dangerous situations. \nSign up for our self-defense class every Monday at 6:00pm\, at Paramount Wellness!
URL:https://paramountclub.pgre.com/events-calendar/self-defense-class-2-2-2/2027-12-27/
LOCATION:Paramount Wellness\, 1301 Avenue of the Americas\, New York\, NY\, 10019\, United States
CATEGORIES:Wellness
ATTACH;FMTTYPE=image/jpeg:https://paramountclub.pgre.com/wp-content/uploads/2025/01/BoxKB-Pic.jpg
ORGANIZER;CN="Paramount Wellness":MAILTO:wellness@paramount.club
END:VEVENT
BEGIN:VEVENT
DTSTART;TZID=America/New_York:20280103T180000
DTEND;TZID=America/New_York:20280103T190000
DTSTAMP:20260424T034513
CREATED:20260220T174858Z
LAST-MODIFIED:20260220T175013Z
UID:10004883-1830535200-1830538800@paramountclub.pgre.com
SUMMARY:Self-Defense Class
DESCRIPTION:Protect & defend yourself and learn how to safely escape dangerous situations. \nSign up for our self-defense class every Monday at 6:00pm\, at Paramount Wellness!
URL:https://paramountclub.pgre.com/events-calendar/self-defense-class-2-2-2/2028-01-03/
LOCATION:Paramount Wellness\, 1301 Avenue of the Americas\, New York\, NY\, 10019\, United States
CATEGORIES:Wellness
ATTACH;FMTTYPE=image/jpeg:https://paramountclub.pgre.com/wp-content/uploads/2025/01/BoxKB-Pic.jpg
ORGANIZER;CN="Paramount Wellness":MAILTO:wellness@paramount.club
END:VEVENT
BEGIN:VEVENT
DTSTART;TZID=America/New_York:20280110T180000
DTEND;TZID=America/New_York:20280110T190000
DTSTAMP:20260424T034513
CREATED:20260220T174858Z
LAST-MODIFIED:20260220T175013Z
UID:10004884-1831140000-1831143600@paramountclub.pgre.com
SUMMARY:Self-Defense Class
DESCRIPTION:Protect & defend yourself and learn how to safely escape dangerous situations. \nSign up for our self-defense class every Monday at 6:00pm\, at Paramount Wellness!
URL:https://paramountclub.pgre.com/events-calendar/self-defense-class-2-2-2/2028-01-10/
LOCATION:Paramount Wellness\, 1301 Avenue of the Americas\, New York\, NY\, 10019\, United States
CATEGORIES:Wellness
ATTACH;FMTTYPE=image/jpeg:https://paramountclub.pgre.com/wp-content/uploads/2025/01/BoxKB-Pic.jpg
ORGANIZER;CN="Paramount Wellness":MAILTO:wellness@paramount.club
END:VEVENT
BEGIN:VEVENT
DTSTART;TZID=America/New_York:20280117T180000
DTEND;TZID=America/New_York:20280117T190000
DTSTAMP:20260424T034513
CREATED:20260220T174858Z
LAST-MODIFIED:20260220T175013Z
UID:10004885-1831744800-1831748400@paramountclub.pgre.com
SUMMARY:Self-Defense Class
DESCRIPTION:Protect & defend yourself and learn how to safely escape dangerous situations. \nSign up for our self-defense class every Monday at 6:00pm\, at Paramount Wellness!
URL:https://paramountclub.pgre.com/events-calendar/self-defense-class-2-2-2/2028-01-17/
LOCATION:Paramount Wellness\, 1301 Avenue of the Americas\, New York\, NY\, 10019\, United States
CATEGORIES:Wellness
ATTACH;FMTTYPE=image/jpeg:https://paramountclub.pgre.com/wp-content/uploads/2025/01/BoxKB-Pic.jpg
ORGANIZER;CN="Paramount Wellness":MAILTO:wellness@paramount.club
END:VEVENT
BEGIN:VEVENT
DTSTART;TZID=America/New_York:20280124T180000
DTEND;TZID=America/New_York:20280124T190000
DTSTAMP:20260424T034513
CREATED:20260220T174858Z
LAST-MODIFIED:20260220T175013Z
UID:10004886-1832349600-1832353200@paramountclub.pgre.com
SUMMARY:Self-Defense Class
DESCRIPTION:Protect & defend yourself and learn how to safely escape dangerous situations. \nSign up for our self-defense class every Monday at 6:00pm\, at Paramount Wellness!
URL:https://paramountclub.pgre.com/events-calendar/self-defense-class-2-2-2/2028-01-24/
LOCATION:Paramount Wellness\, 1301 Avenue of the Americas\, New York\, NY\, 10019\, United States
CATEGORIES:Wellness
ATTACH;FMTTYPE=image/jpeg:https://paramountclub.pgre.com/wp-content/uploads/2025/01/BoxKB-Pic.jpg
ORGANIZER;CN="Paramount Wellness":MAILTO:wellness@paramount.club
END:VEVENT
BEGIN:VEVENT
DTSTART;TZID=America/New_York:20280131T180000
DTEND;TZID=America/New_York:20280131T190000
DTSTAMP:20260424T034513
CREATED:20260220T174858Z
LAST-MODIFIED:20260220T175013Z
UID:10004887-1832954400-1832958000@paramountclub.pgre.com
SUMMARY:Self-Defense Class
DESCRIPTION:Protect & defend yourself and learn how to safely escape dangerous situations. \nSign up for our self-defense class every Monday at 6:00pm\, at Paramount Wellness!
URL:https://paramountclub.pgre.com/events-calendar/self-defense-class-2-2-2/2028-01-31/
LOCATION:Paramount Wellness\, 1301 Avenue of the Americas\, New York\, NY\, 10019\, United States
CATEGORIES:Wellness
ATTACH;FMTTYPE=image/jpeg:https://paramountclub.pgre.com/wp-content/uploads/2025/01/BoxKB-Pic.jpg
ORGANIZER;CN="Paramount Wellness":MAILTO:wellness@paramount.club
END:VEVENT
BEGIN:VEVENT
DTSTART;TZID=America/New_York:20280207T180000
DTEND;TZID=America/New_York:20280207T190000
DTSTAMP:20260424T034513
CREATED:20260220T174858Z
LAST-MODIFIED:20260220T175013Z
UID:10004888-1833559200-1833562800@paramountclub.pgre.com
SUMMARY:Self-Defense Class
DESCRIPTION:Protect & defend yourself and learn how to safely escape dangerous situations. \nSign up for our self-defense class every Monday at 6:00pm\, at Paramount Wellness!
URL:https://paramountclub.pgre.com/events-calendar/self-defense-class-2-2-2/2028-02-07/
LOCATION:Paramount Wellness\, 1301 Avenue of the Americas\, New York\, NY\, 10019\, United States
CATEGORIES:Wellness
ATTACH;FMTTYPE=image/jpeg:https://paramountclub.pgre.com/wp-content/uploads/2025/01/BoxKB-Pic.jpg
ORGANIZER;CN="Paramount Wellness":MAILTO:wellness@paramount.club
END:VEVENT
BEGIN:VEVENT
DTSTART;TZID=America/New_York:20280214T180000
DTEND;TZID=America/New_York:20280214T190000
DTSTAMP:20260424T034513
CREATED:20260220T174858Z
LAST-MODIFIED:20260220T175013Z
UID:10004889-1834164000-1834167600@paramountclub.pgre.com
SUMMARY:Self-Defense Class
DESCRIPTION:Protect & defend yourself and learn how to safely escape dangerous situations. \nSign up for our self-defense class every Monday at 6:00pm\, at Paramount Wellness!
URL:https://paramountclub.pgre.com/events-calendar/self-defense-class-2-2-2/2028-02-14/
LOCATION:Paramount Wellness\, 1301 Avenue of the Americas\, New York\, NY\, 10019\, United States
CATEGORIES:Wellness
ATTACH;FMTTYPE=image/jpeg:https://paramountclub.pgre.com/wp-content/uploads/2025/01/BoxKB-Pic.jpg
ORGANIZER;CN="Paramount Wellness":MAILTO:wellness@paramount.club
END:VEVENT
BEGIN:VEVENT
DTSTART;TZID=America/New_York:20280221T180000
DTEND;TZID=America/New_York:20280221T190000
DTSTAMP:20260424T034513
CREATED:20260220T174858Z
LAST-MODIFIED:20260220T175013Z
UID:10004890-1834768800-1834772400@paramountclub.pgre.com
SUMMARY:Self-Defense Class
DESCRIPTION:Protect & defend yourself and learn how to safely escape dangerous situations. \nSign up for our self-defense class every Monday at 6:00pm\, at Paramount Wellness!
URL:https://paramountclub.pgre.com/events-calendar/self-defense-class-2-2-2/2028-02-21/
LOCATION:Paramount Wellness\, 1301 Avenue of the Americas\, New York\, NY\, 10019\, United States
CATEGORIES:Wellness
ATTACH;FMTTYPE=image/jpeg:https://paramountclub.pgre.com/wp-content/uploads/2025/01/BoxKB-Pic.jpg
ORGANIZER;CN="Paramount Wellness":MAILTO:wellness@paramount.club
END:VEVENT
BEGIN:VEVENT
DTSTART;TZID=America/New_York:20280228T180000
DTEND;TZID=America/New_York:20280228T190000
DTSTAMP:20260424T034513
CREATED:20260220T174858Z
LAST-MODIFIED:20260220T175013Z
UID:10004891-1835373600-1835377200@paramountclub.pgre.com
SUMMARY:Self-Defense Class
DESCRIPTION:Protect & defend yourself and learn how to safely escape dangerous situations. \nSign up for our self-defense class every Monday at 6:00pm\, at Paramount Wellness!
URL:https://paramountclub.pgre.com/events-calendar/self-defense-class-2-2-2/2028-02-28/
LOCATION:Paramount Wellness\, 1301 Avenue of the Americas\, New York\, NY\, 10019\, United States
CATEGORIES:Wellness
ATTACH;FMTTYPE=image/jpeg:https://paramountclub.pgre.com/wp-content/uploads/2025/01/BoxKB-Pic.jpg
ORGANIZER;CN="Paramount Wellness":MAILTO:wellness@paramount.club
END:VEVENT
BEGIN:VEVENT
DTSTART;TZID=America/New_York:20280306T180000
DTEND;TZID=America/New_York:20280306T190000
DTSTAMP:20260424T034513
CREATED:20260220T174858Z
LAST-MODIFIED:20260220T175013Z
UID:10004892-1835978400-1835982000@paramountclub.pgre.com
SUMMARY:Self-Defense Class
DESCRIPTION:Protect & defend yourself and learn how to safely escape dangerous situations. \nSign up for our self-defense class every Monday at 6:00pm\, at Paramount Wellness!
URL:https://paramountclub.pgre.com/events-calendar/self-defense-class-2-2-2/2028-03-06/
LOCATION:Paramount Wellness\, 1301 Avenue of the Americas\, New York\, NY\, 10019\, United States
CATEGORIES:Wellness
ATTACH;FMTTYPE=image/jpeg:https://paramountclub.pgre.com/wp-content/uploads/2025/01/BoxKB-Pic.jpg
ORGANIZER;CN="Paramount Wellness":MAILTO:wellness@paramount.club
END:VEVENT
BEGIN:VEVENT
DTSTART;TZID=America/New_York:20280313T180000
DTEND;TZID=America/New_York:20280313T190000
DTSTAMP:20260424T034513
CREATED:20260220T174858Z
LAST-MODIFIED:20260220T175013Z
UID:10004893-1836583200-1836586800@paramountclub.pgre.com
SUMMARY:Self-Defense Class
DESCRIPTION:Protect & defend yourself and learn how to safely escape dangerous situations. \nSign up for our self-defense class every Monday at 6:00pm\, at Paramount Wellness!
URL:https://paramountclub.pgre.com/events-calendar/self-defense-class-2-2-2/2028-03-13/
LOCATION:Paramount Wellness\, 1301 Avenue of the Americas\, New York\, NY\, 10019\, United States
CATEGORIES:Wellness
ATTACH;FMTTYPE=image/jpeg:https://paramountclub.pgre.com/wp-content/uploads/2025/01/BoxKB-Pic.jpg
ORGANIZER;CN="Paramount Wellness":MAILTO:wellness@paramount.club
END:VEVENT
BEGIN:VEVENT
DTSTART;TZID=America/New_York:20280320T180000
DTEND;TZID=America/New_York:20280320T190000
DTSTAMP:20260424T034513
CREATED:20260220T174858Z
LAST-MODIFIED:20260220T175013Z
UID:10004894-1837188000-1837191600@paramountclub.pgre.com
SUMMARY:Self-Defense Class
DESCRIPTION:Protect & defend yourself and learn how to safely escape dangerous situations. \nSign up for our self-defense class every Monday at 6:00pm\, at Paramount Wellness!
URL:https://paramountclub.pgre.com/events-calendar/self-defense-class-2-2-2/2028-03-20/
LOCATION:Paramount Wellness\, 1301 Avenue of the Americas\, New York\, NY\, 10019\, United States
CATEGORIES:Wellness
ATTACH;FMTTYPE=image/jpeg:https://paramountclub.pgre.com/wp-content/uploads/2025/01/BoxKB-Pic.jpg
ORGANIZER;CN="Paramount Wellness":MAILTO:wellness@paramount.club
END:VEVENT
BEGIN:VEVENT
DTSTART;TZID=America/New_York:20280327T180000
DTEND;TZID=America/New_York:20280327T190000
DTSTAMP:20260424T034513
CREATED:20260220T174858Z
LAST-MODIFIED:20260220T175013Z
UID:10004895-1837792800-1837796400@paramountclub.pgre.com
SUMMARY:Self-Defense Class
DESCRIPTION:Protect & defend yourself and learn how to safely escape dangerous situations. \nSign up for our self-defense class every Monday at 6:00pm\, at Paramount Wellness!
URL:https://paramountclub.pgre.com/events-calendar/self-defense-class-2-2-2/2028-03-27/
LOCATION:Paramount Wellness\, 1301 Avenue of the Americas\, New York\, NY\, 10019\, United States
CATEGORIES:Wellness
ATTACH;FMTTYPE=image/jpeg:https://paramountclub.pgre.com/wp-content/uploads/2025/01/BoxKB-Pic.jpg
ORGANIZER;CN="Paramount Wellness":MAILTO:wellness@paramount.club
END:VEVENT
BEGIN:VEVENT
DTSTART;TZID=America/New_York:20280403T180000
DTEND;TZID=America/New_York:20280403T190000
DTSTAMP:20260424T034513
CREATED:20260220T174858Z
LAST-MODIFIED:20260220T175013Z
UID:10004896-1838397600-1838401200@paramountclub.pgre.com
SUMMARY:Self-Defense Class
DESCRIPTION:Protect & defend yourself and learn how to safely escape dangerous situations. \nSign up for our self-defense class every Monday at 6:00pm\, at Paramount Wellness!
URL:https://paramountclub.pgre.com/events-calendar/self-defense-class-2-2-2/2028-04-03/
LOCATION:Paramount Wellness\, 1301 Avenue of the Americas\, New York\, NY\, 10019\, United States
CATEGORIES:Wellness
ATTACH;FMTTYPE=image/jpeg:https://paramountclub.pgre.com/wp-content/uploads/2025/01/BoxKB-Pic.jpg
ORGANIZER;CN="Paramount Wellness":MAILTO:wellness@paramount.club
END:VEVENT
BEGIN:VEVENT
DTSTART;TZID=America/New_York:20280410T180000
DTEND;TZID=America/New_York:20280410T190000
DTSTAMP:20260424T034513
CREATED:20260220T174858Z
LAST-MODIFIED:20260220T175013Z
UID:10004897-1839002400-1839006000@paramountclub.pgre.com
SUMMARY:Self-Defense Class
DESCRIPTION:Protect & defend yourself and learn how to safely escape dangerous situations. \nSign up for our self-defense class every Monday at 6:00pm\, at Paramount Wellness!
URL:https://paramountclub.pgre.com/events-calendar/self-defense-class-2-2-2/2028-04-10/
LOCATION:Paramount Wellness\, 1301 Avenue of the Americas\, New York\, NY\, 10019\, United States
CATEGORIES:Wellness
ATTACH;FMTTYPE=image/jpeg:https://paramountclub.pgre.com/wp-content/uploads/2025/01/BoxKB-Pic.jpg
ORGANIZER;CN="Paramount Wellness":MAILTO:wellness@paramount.club
END:VEVENT
END:VCALENDAR